BEGIN:VCALENDAR
VERSION:2.0
PRODID:-//TOFS | OA/TOF Support - ECPv6.15.17.1//NONSGML v1.0//EN
CALSCALE:GREGORIAN
METHOD:PUBLISH
X-WR-CALNAME:TOFS | OA/TOF Support
X-ORIGINAL-URL:https://tofs.org.uk
X-WR-CALDESC:Events for TOFS | OA/TOF Support
REFRESH-INTERVAL;VALUE=DURATION:PT1H
X-Robots-Tag:noindex
X-PUBLISHED-TTL:PT1H
BEGIN:VTIMEZONE
TZID:Europe/London
BEGIN:DAYLIGHT
TZOFFSETFROM:+0000
TZOFFSETTO:+0100
TZNAME:BST
DTSTART:20240331T010000
END:DAYLIGHT
BEGIN:STANDARD
TZOFFSETFROM:+0100
TZOFFSETTO:+0000
TZNAME:GMT
DTSTART:20241027T010000
END:STANDARD
BEGIN:DAYLIGHT
TZOFFSETFROM:+0000
TZOFFSETTO:+0100
TZNAME:BST
DTSTART:20250330T010000
END:DAYLIGHT
BEGIN:STANDARD
TZOFFSETFROM:+0100
TZOFFSETTO:+0000
TZNAME:GMT
DTSTART:20251026T010000
END:STANDARD
BEGIN:DAYLIGHT
TZOFFSETFROM:+0000
TZOFFSETTO:+0100
TZNAME:BST
DTSTART:20260329T010000
END:DAYLIGHT
BEGIN:STANDARD
TZOFFSETFROM:+0100
TZOFFSETTO:+0000
TZNAME:GMT
DTSTART:20261025T010000
END:STANDARD
END:VTIMEZONE
BEGIN:VEVENT
DTSTART;VALUE=DATE:20251025
DTEND;VALUE=DATE:20251103
DTSTAMP:20260420T194548
CREATED:20250411T145009Z
LAST-MODIFIED:20251031T104618Z
UID:29415-1761350400-1762127999@tofs.org.uk
SUMMARY:Big Splash Swimathon 2025
DESCRIPTION:Take part in our Big Splash Swimathon and help support TOFS while staying active!  Choose to go it alone or get the whole family involved and set a group target.Pick your distance from our Mini splash right up to 10K or go freestyle and pick your own.Get down to your local pool\, lido or brave the open water.Dive in!								\n				\n					\n		\n				\n			\n						\n				\n									Choose your distance!\nMini splash = 10 lengths of 25m pool0.5K = 20 lengths of 25m pool1K = 40 lengths of 25m pool3K  = 120 lengths of 25m pool5K = 200 lengths of 25m poolMega splash – 10K = 400 lengths of 25m poolFreestyle – pick your own! 								\n				\n					\n		\n					\n		\n				\n						\n					\n			\n						\n				\n					Register your Big Splash to get your medal!				\n				\n					\n		\n					\n		\n				\n						\n					\n			\n						\n				\n									Thank you for getting involved in our Big Splash Swimathon. Please complete this form to register so we can reserve your medals. To complete this registration form\, we require a link to your fundraising page. Please set this up first and return back to this form once done.  Please use People’s Fundraising who charge us much lower fees than some of the other fundraising platforms. Which means more of your donations will be passed to TOFS. 								\n				\n				\n				\n							\n			\n			\n			\n\n							\n			\n			\n								\n													\n											\n								\n													\n											\n								\n													\n											\n								\n												\n								How far will you swim?							\n						 Mini splash 0.5K 1K 3K 5K 10K Freestyle - Let us know below				\n								\n												\n								Freestyle (let us know your target distance)							\n														\n											\n								\n												\n								Would you like to be included in our Big Splash WhatsApp group chat? (Mobile numbers and photos/chats will be visible to all who agree to join.) The group will be set up 2 weeks prior to the event. 							\n						 Yes\, I'd like to join the Big Splash group & chat with other participants.  No\, please do not add me to the group.				\n								\n												\n								If you would like a medal\, please let us know who will require one.							\n										\n								\n												\n								Where should we send the medal(s) to?							\n										\n								\n												\n								Add the link to your fundraising page so that we can join you to track your achievement. Please use People's Fundraising [just click on the "Sign Up" button]							\n														\n											\n								\n												\n								What is the title of your fundraising page? (This helps us to identify your page easier.)							\n														\n											\n								\n												\n								Additional information: If there is anything you would like to mention\, please do so here.							\n										\n								\n									\n								\n					\n						\n																						Register your event
URL:https://tofs.org.uk/event/big-splash-swimathon-2025/
LOCATION:Various locations
CATEGORIES:Fundraising
ATTACH;FMTTYPE=image/png:https://tofs.org.uk/wp-content/uploads/2025/04/big-splash-icon.png
END:VEVENT
END:VCALENDAR