BEGIN:VCALENDAR
VERSION:2.0
PRODID:-//TOFS | OA/TOF Support - ECPv6.15.17.1//NONSGML v1.0//EN
CALSCALE:GREGORIAN
METHOD:PUBLISH
X-WR-CALNAME:TOFS | OA/TOF Support
X-ORIGINAL-URL:https://tofs.org.uk
X-WR-CALDESC:Events for TOFS | OA/TOF Support
REFRESH-INTERVAL;VALUE=DURATION:PT1H
X-Robots-Tag:noindex
X-PUBLISHED-TTL:PT1H
BEGIN:VTIMEZONE
TZID:Europe/London
BEGIN:DAYLIGHT
TZOFFSETFROM:+0000
TZOFFSETTO:+0100
TZNAME:BST
DTSTART:20240331T010000
END:DAYLIGHT
BEGIN:STANDARD
TZOFFSETFROM:+0100
TZOFFSETTO:+0000
TZNAME:GMT
DTSTART:20241027T010000
END:STANDARD
BEGIN:DAYLIGHT
TZOFFSETFROM:+0000
TZOFFSETTO:+0100
TZNAME:BST
DTSTART:20250330T010000
END:DAYLIGHT
BEGIN:STANDARD
TZOFFSETFROM:+0100
TZOFFSETTO:+0000
TZNAME:GMT
DTSTART:20251026T010000
END:STANDARD
BEGIN:DAYLIGHT
TZOFFSETFROM:+0000
TZOFFSETTO:+0100
TZNAME:BST
DTSTART:20260329T010000
END:DAYLIGHT
BEGIN:STANDARD
TZOFFSETFROM:+0100
TZOFFSETTO:+0000
TZNAME:GMT
DTSTART:20261025T010000
END:STANDARD
END:VTIMEZONE
BEGIN:VEVENT
DTSTART;TZID=Europe/London:20251029T160000
DTEND;TZID=Europe/London:20251029T170000
DTSTAMP:20260422T215853
CREATED:20251001T150809Z
LAST-MODIFIED:20251023T140247Z
UID:32804-1761753600-1761757200@tofs.org.uk
SUMMARY:ERS: Panel discussion on lifelong respiratory care in OA/TOF & CDH
DESCRIPTION:The European Respiratory Society (ERS) is holding a webinar which may be of interest to medical professionals with an interest in OA/TOF. The event is co-chaired by Dr Caroline Love\, Chair of our Medical Liaison & Research sub-committee\, author of the Adult OA/TOF Management Handbook and an adult born with OA/TOF. 								\n				\n				\n				\n									Event details:29 October\, 2025 | Online5pm-6pm CET (4pm – 5pm UK) Chairs: Dr Caroline Love (York\, United Kingdom)\, Prof. Dr Dirk Schramm (Düsseldorf\, Germany) Speakers: Dr Anna Wiemers (Bochum\, Germany)\, Prof. Alyn Morice (Cottingham\, United Kingdom)\, Prof. Dr Rene Wijnen (Rotterdam\, Netherlands) Fees: Free for ERS members / for non-members OverviewCongenital thoracic anomalies (oesophageal atresia and tracheo-oesophageal fistula\, congenital diaphragmatic hernia) demand seamless collaboration between paediatric and adult pulmonology teams. This webinar addresses critical gaps: Paediatric specialists lack frameworks for adult-onset complications.Adult pulmonologists need paediatric diagnostic insights.Trainees require integrated care models.System fragmentation during care transitions.Diseases/methods:Paediatric respiratory diseasesTarget audiencePaediatric pulmonologistsAdult pulmonologistsTraineesThoracic surgeons								\n				\n					\n		\n				\n			\n						\n				\n									\n					\n						\n						\n							\n									CLICK HERE FOR MORE INFORMATION
URL:https://tofs.org.uk/event/ers-panel-discussion-on-lifelong-respiratory-care-in-oa-tof-cdh/
LOCATION:Online
CATEGORIES:Professional
ATTACH;FMTTYPE=image/png:https://tofs.org.uk/wp-content/uploads/2025/10/ERS-European-Respiratory-Society-logo.png
END:VEVENT
END:VCALENDAR