BEGIN:VCALENDAR
VERSION:2.0
PRODID:-//TOFS | OA/TOF Support - ECPv6.15.17.1//NONSGML v1.0//EN
CALSCALE:GREGORIAN
METHOD:PUBLISH
X-WR-CALNAME:TOFS | OA/TOF Support
X-ORIGINAL-URL:https://tofs.org.uk
X-WR-CALDESC:Events for TOFS | OA/TOF Support
REFRESH-INTERVAL;VALUE=DURATION:PT1H
X-Robots-Tag:noindex
X-PUBLISHED-TTL:PT1H
BEGIN:VTIMEZONE
TZID:Europe/London
BEGIN:DAYLIGHT
TZOFFSETFROM:+0000
TZOFFSETTO:+0100
TZNAME:BST
DTSTART:20240331T010000
END:DAYLIGHT
BEGIN:STANDARD
TZOFFSETFROM:+0100
TZOFFSETTO:+0000
TZNAME:GMT
DTSTART:20241027T010000
END:STANDARD
BEGIN:DAYLIGHT
TZOFFSETFROM:+0000
TZOFFSETTO:+0100
TZNAME:BST
DTSTART:20250330T010000
END:DAYLIGHT
BEGIN:STANDARD
TZOFFSETFROM:+0100
TZOFFSETTO:+0000
TZNAME:GMT
DTSTART:20251026T010000
END:STANDARD
BEGIN:DAYLIGHT
TZOFFSETFROM:+0000
TZOFFSETTO:+0100
TZNAME:BST
DTSTART:20260329T010000
END:DAYLIGHT
BEGIN:STANDARD
TZOFFSETFROM:+0100
TZOFFSETTO:+0000
TZNAME:GMT
DTSTART:20261025T010000
END:STANDARD
END:VTIMEZONE
BEGIN:VEVENT
DTSTART;TZID=Europe/London:20251008T190000
DTEND;TZID=Europe/London:20251008T200000
DTSTAMP:20260420T172726
CREATED:20250514T143508Z
LAST-MODIFIED:20250926T131336Z
UID:29988-1759950000-1759953600@tofs.org.uk
SUMMARY:Live Q&A: OA/TOF related respiratory issues for adults
DESCRIPTION:Are you an adult born with OA/TOF and experiencing respiratory issues\, such as chronic cough\, aspiration\, dysmotility or tracheomalacia? Join us for the upcoming Q&A session with Professor Alyn Morice. Professor Morice is Head of Respiratory Medicine at HYMS\, based at the University of Hull. He is also an Honorary Consultant Physician at Hull and East Yorkshire Hospitals NHS Trust. Professor Morice specialises in the diagnosis and treatment of cough and runs the Hull Cough Clinic. He also runs the Hull Respiratory Clinical Trials Unit\, specialising in the treatment of asthma and COPD. Professor Morice has led the European Respiratory Society and British Thoracic Society Taskforces on Cough. Some members may recall Professor Morice’s previous talk on the TOF Cough. 								\n				\n					\n		\n				\n			\n						\n				\n									\n					\n						\n						\n							\n									CLICK HERE TO REGISTER\n					\n					\n				\n								\n				\n				\n				\n																\n															\n															\n				\n					\n		\n					\n		\n				\n						\n					\n			\n						\n				\n							\n			\n						\n		\n						\n				\n				\n				\n					Using Zoom				\n				\n				\n				\n									In order to join this meeting\, you will need to pre-register and follow the unique link you will receive in your email. Please don’t share the link with another user as this could block access for you. Instead\, ask them to register for their own link. For the best experience\, we recommend downloading Zoom to your computer or mobile device before joining the meeting [click for more info]. It is also possible to access the meeting using your web browser (e.g. Chrome\, Safari\, Edge) without downloading any plugins or software [click for info]. The following video goes over the basic controls you can use while in a Zoom meeting.
URL:https://tofs.org.uk/event/live-qa-oa-tof-related-respiratory-issues-for-adults/
LOCATION:Online
CATEGORIES:Adult TOF
ATTACH;FMTTYPE=image/png:https://tofs.org.uk/wp-content/uploads/2025/05/Oct25-NEW.png
END:VEVENT
END:VCALENDAR