BEGIN:VCALENDAR
VERSION:2.0
PRODID:-//TOFS | OA/TOF Support - ECPv6.15.17.1//NONSGML v1.0//EN
CALSCALE:GREGORIAN
METHOD:PUBLISH
X-WR-CALNAME:TOFS | OA/TOF Support
X-ORIGINAL-URL:https://tofs.org.uk
X-WR-CALDESC:Events for TOFS | OA/TOF Support
REFRESH-INTERVAL;VALUE=DURATION:PT1H
X-Robots-Tag:noindex
X-PUBLISHED-TTL:PT1H
BEGIN:VTIMEZONE
TZID:Europe/London
BEGIN:DAYLIGHT
TZOFFSETFROM:+0000
TZOFFSETTO:+0100
TZNAME:BST
DTSTART:20250330T010000
END:DAYLIGHT
BEGIN:STANDARD
TZOFFSETFROM:+0100
TZOFFSETTO:+0000
TZNAME:GMT
DTSTART:20251026T010000
END:STANDARD
BEGIN:DAYLIGHT
TZOFFSETFROM:+0000
TZOFFSETTO:+0100
TZNAME:BST
DTSTART:20260329T010000
END:DAYLIGHT
BEGIN:STANDARD
TZOFFSETFROM:+0100
TZOFFSETTO:+0000
TZNAME:GMT
DTSTART:20261025T010000
END:STANDARD
BEGIN:DAYLIGHT
TZOFFSETFROM:+0000
TZOFFSETTO:+0100
TZNAME:BST
DTSTART:20270328T010000
END:DAYLIGHT
BEGIN:STANDARD
TZOFFSETFROM:+0100
TZOFFSETTO:+0000
TZNAME:GMT
DTSTART:20271031T010000
END:STANDARD
END:VTIMEZONE
BEGIN:VEVENT
DTSTART;TZID=Europe/London:20260328T100000
DTEND;TZID=Europe/London:20260328T130000
DTSTAMP:20260421T163744
CREATED:20260213T164108Z
LAST-MODIFIED:20260311T170030Z
UID:34855-1774692000-1774702800@tofs.org.uk
SUMMARY:Local Meet-up: Birmingham
DESCRIPTION:Don’t miss your chance to meet up with other OA/TOF parents and families in the West Midlands\, for a cuppa\, chat and some Easter crafts! \nEmma\, TOFS Local Contact (TLC) for the West Midlands has organised an informal get-together and you are invited! \nWhat:Children’s Easter crafts \nWhen:Saturday 28th March\, 202610am – 1pm \nWhere:Day Room\, Ronald McDonald House\, St Mary’s Row\, Birmingham\, B4 6NY \nThis event is free to attend\, but please RSVP to Emma:  emma2811@hotmail.co.uk. If you have any questions\, you can contact Emma via email\, using her details in the TLC section of the members’ website\, or via the TOFS Facebook group. \nWe hope you can make it! 								\n				\n					\n		\n				\n			\n						\n				\n									\n					\n						\n						\n							\n									CLICK HERE TO RSVP
URL:https://tofs.org.uk/event/local-meet-up-birmingham-3/
LOCATION:Ronald McDonald House Birmingham\, St Mary’s Row\, Birmingham\, B4 6NY\, United Kingdom
CATEGORIES:Parents & Carers
ATTACH;FMTTYPE=image/jpeg:https://tofs.org.uk/wp-content/uploads/2024/04/local-meet-up.jpg
END:VEVENT
END:VCALENDAR