BEGIN:VCALENDAR
VERSION:2.0
PRODID:-//TOFS | OA/TOF Support - ECPv6.15.17.1//NONSGML v1.0//EN
CALSCALE:GREGORIAN
METHOD:PUBLISH
X-WR-CALNAME:TOFS | OA/TOF Support
X-ORIGINAL-URL:https://tofs.org.uk
X-WR-CALDESC:Events for TOFS | OA/TOF Support
REFRESH-INTERVAL;VALUE=DURATION:PT1H
X-Robots-Tag:noindex
X-PUBLISHED-TTL:PT1H
BEGIN:VTIMEZONE
TZID:Europe/London
BEGIN:DAYLIGHT
TZOFFSETFROM:+0000
TZOFFSETTO:+0100
TZNAME:BST
DTSTART:20260329T010000
END:DAYLIGHT
BEGIN:STANDARD
TZOFFSETFROM:+0100
TZOFFSETTO:+0000
TZNAME:GMT
DTSTART:20261025T010000
END:STANDARD
BEGIN:DAYLIGHT
TZOFFSETFROM:+0000
TZOFFSETTO:+0100
TZNAME:BST
DTSTART:20270328T010000
END:DAYLIGHT
BEGIN:STANDARD
TZOFFSETFROM:+0100
TZOFFSETTO:+0000
TZNAME:GMT
DTSTART:20271031T010000
END:STANDARD
BEGIN:DAYLIGHT
TZOFFSETFROM:+0000
TZOFFSETTO:+0100
TZNAME:BST
DTSTART:20280326T010000
END:DAYLIGHT
BEGIN:STANDARD
TZOFFSETFROM:+0100
TZOFFSETTO:+0000
TZNAME:GMT
DTSTART:20281029T010000
END:STANDARD
END:VTIMEZONE
BEGIN:VEVENT
DTSTART;VALUE=DATE:20270418
DTEND;VALUE=DATE:20270419
DTSTAMP:20260421T163019
CREATED:20260421T092525Z
LAST-MODIFIED:20260421T112330Z
UID:36206-1808006400-1808092799@tofs.org.uk
SUMMARY:Manchester Marathon 2027
DESCRIPTION:The adidas Manchester Marathon\, the UK’s second largest marathon and one of Europe’s largest is an iconic event drawing participants from all over the world to the vibrant streets of Greater Manchester. The event prides itself in welcoming all to take on the 26.2 mile challenge\, from some superb elite runners\, to those who thought completing a marathon would never be possible. Many regular runners find this the ideal event to get a personal best time\, whilst everybody finds the incredible Mancunian support throughout the course unforgettable. 								\n				\n					\n		\n					\n		\n				\n						\n					\n			\n						\n				\n					Entry fee:\n£50				\n				\n				\n				\n									+ booking fee Your place will be subsidised by TOFS. Your entry fee goes towards the admin fees that the race organisers charge us.  								\n				\n					\n		\n				\n			\n						\n				\n					Fundraising commitment: £500				\n				\n				\n				\n									This is the minimum amount (before Gift Aid) that we would expect a participant to raise for a TOFS subsidised place.  But you don’t have to stop there! Most of our runners raise a lot more than the minimum! 								\n				\n					\n		\n					\n		\n				\n						\n					\n			\n						\n				\n									\n					\n						\n						\n							\n									Sign Up\n					\n					\n				\n								\n				\n					\n		\n				\n			\n						\n				\n									Note: Applications for this event are managed via our partner\, Run for Charity. Scroll down to see our terms and conditions for this event. 								\n				\n					\n		\n					\n		\n				\n						\n					\n			\n						\n				\n									Charity places come at a cost to TOFS\, and sponsorship targets ensure we do not lose out on our investment and are able to raise as much as possible to support our vital work. We ask charity place participants to raise 75% of their sponsorship by the event date\, with the remaining fundraising due 30 days after race day. Gift Aid is not included in your sponsorship target\, and neither is your registration fee. Registration fees for charity places in events are non-refundable and non-transferrable 								\n				\n					\n		\n					\n		\n				\n						\n					\n			\n						\n				\n							\n					\n						\n				\n					\n		\n					\n		\n				\n						\n					\n			\n						\n				\n									Note: Applications for this event are managed via our partner\, Run for Charity. Scroll down to see our terms and conditions for this event. 								\n				\n				\n				\n							\n							\n					\n													\n															\n								\n														\n												TOFS Terms and Conditions\n					\n					You confirm that the information on your application form is complete and correct\, and that you will be 18 years of age or older on the day of the event.You recognise that TOFS will retain for a reasonable period the information that you supply by applying\, whether you are selected for a TOFS place or not.You recognise that you apply and (if selected by TOFS) run at your own risk in accordance with standard organiser’s regulations and conditions\, which are in addition to these TOFS terms and conditions.You confirm that\, so far as you are aware\, you have no medical or health issues which would mean that it would be unsafe or unwise for you to train for and run this event.You confirm that you shall (if selected to run for TOFS) diligently undertake the running training that is appropriate as preparation for a half marathon\, in the months preceding the run.Should you be accepted to run for TOFS using a TOFS place\, you agree to pay a non refundable registration fee (+booking fee). This is to cover some of the administration costs that the charity will be charged by the organiser. The fee will not count towards your fund-raising pledge. The fee must be cleared in the TOFS bank account within 21 days of applying.You confirm that you shall make diligent efforts to contact donors and sponsors and set up fundraising mechanisms so as to raise at least the minimum amount you have agreed to\, and TOFS shall be the only charity for which you raise funds in this eventIf allocated a place\, you are pledging to raise the minimum target as specified for the event by TOFS and agreeing to make up any shortfall yourself or via your own further fundraising efforts to the required minimum. You must show at least one month before the event that your fundraising has commenced for instance by setting up a fundraising webpage and receiving at least an initial donation. Participants must raise at least 75% of the minimum target by the event date.All monies raised is to be received by TOFS within 30 days of the event date.If allocated a place\, you agree to inform TOFS as soon as possible in writing\, preferably by email\, should you become unable to take part in the event. Once this is acknowledged by TOFS\, your minimum sponsorship obligation will cease. You understand that\, should you withdraw from your place\, the registration fee is non-refundable and will be retained by TOFS to cover expenses.You agree that\, should you withdraw from your place\, you will co-operate and correspond with TOFS and the event organisers such that another runner chosen by TOFS can take your place. At the discretion of TOFS\, and subject to some conditions\, you may be offered a TOFS place in the next year’s event.If you are unable to participate in the event for any reason\, all donated monies collected by you or donated via third parties (such as fundraising websites) in support of TOFS must be forwarded to TOFS. Money which has been pledged to you on condition of your completing the event must be returned to the individual sponsors\, or donated to TOFS if those sponsors are happy to do so. Monies already received by TOFS will not be refunded.If allocated a TOFS place\, you agree that images taken on the day of the event may be used by TOFS to help promote the charity\, our cause and our fundraising efforts.You understand that\, if allocated a TOFS place\, you will be required to also complete in full (and online) the organiser’s registration process\, and to confirm to TOFS as soon as you have done so.You understand that it is your responsibility to take out your own insurance cover for personal accident benefits to whatever level you consider appropriate.By applying for this event\, you accept and agree to the terms and conditions listed above.\n				\n								\n						\n				\n				\n				\n									\n					\n						\n						\n							\n									CLICK HERE TO SIGN UP
URL:https://tofs.org.uk/event/manchester-marathon-2027/
LOCATION:Manchester\, Portland Street\, M1 3LF\, United Kingdom
CATEGORIES:Fundraising
ATTACH;FMTTYPE=image/png:https://tofs.org.uk/wp-content/uploads/2025/06/manchester-marathon-logo-TOFS.png
END:VEVENT
END:VCALENDAR