BEGIN:VCALENDAR
VERSION:2.0
PRODID:-//TOFS | OA/TOF Support - ECPv6.15.17.1//NONSGML v1.0//EN
CALSCALE:GREGORIAN
METHOD:PUBLISH
X-WR-CALNAME:TOFS | OA/TOF Support
X-ORIGINAL-URL:https://tofs.org.uk
X-WR-CALDESC:Events for TOFS | OA/TOF Support
REFRESH-INTERVAL;VALUE=DURATION:PT1H
X-Robots-Tag:noindex
X-PUBLISHED-TTL:PT1H
BEGIN:VTIMEZONE
TZID:Europe/London
BEGIN:DAYLIGHT
TZOFFSETFROM:+0000
TZOFFSETTO:+0100
TZNAME:BST
DTSTART:20250330T010000
END:DAYLIGHT
BEGIN:STANDARD
TZOFFSETFROM:+0100
TZOFFSETTO:+0000
TZNAME:GMT
DTSTART:20251026T010000
END:STANDARD
BEGIN:DAYLIGHT
TZOFFSETFROM:+0000
TZOFFSETTO:+0100
TZNAME:BST
DTSTART:20260329T010000
END:DAYLIGHT
BEGIN:STANDARD
TZOFFSETFROM:+0100
TZOFFSETTO:+0000
TZNAME:GMT
DTSTART:20261025T010000
END:STANDARD
BEGIN:DAYLIGHT
TZOFFSETFROM:+0000
TZOFFSETTO:+0100
TZNAME:BST
DTSTART:20270328T010000
END:DAYLIGHT
BEGIN:STANDARD
TZOFFSETFROM:+0100
TZOFFSETTO:+0000
TZNAME:GMT
DTSTART:20271031T010000
END:STANDARD
END:VTIMEZONE
BEGIN:VEVENT
DTSTART;TZID=Europe/London:20260321T103000
DTEND;TZID=Europe/London:20260321T163000
DTSTAMP:20260420T050002
CREATED:20251127T143646Z
LAST-MODIFIED:20260320T212432Z
UID:33875-1774089000-1774110600@tofs.org.uk
SUMMARY:TOFS 2026 Seminar
DESCRIPTION:TOFS 2026 Seminar Important Update:We’ve been made aware that there is a part closure on the Piccadilly Line on Saturday. Depending on which direction you’re coming from\, please walk from Holborn Station (we believe the central line is open) or get off the train at Kings Cross/St Pancras and walk from there. 								\n				\n					\n		\n					\n		\n				\n						\n					\n			\n						\n				\n									The TOFS seminar is being held at the Institute of Child Health (ICH)\, London on Saturday\, 21st March\, 2026. Why attendJoin us for our in-person OA/TOF Seminar in London to hear from some of the UK’s leading specialists on the work being done to improve the care of today’s OA/TOF children and to address the long-term issues affecting adults born with the condition. This is a great opportunity to meet\, make connections and share experiences with other families and adults born with OA/TOF and associated conditions. Who should attend?This seminar is aimed at adults born with OA/TOF\, parents and carers of children born with OA/TOF and medical professionals. Note: Registration on the day opens at 9.30am with presentations beginning at 10.30am. 								\n				\n				\n				\n									\n					\n						\n						\n							\n									CLICK HERE FOR TICKETS\n					\n					\n				\n								\n				\n					\n		\n				\n			\n						\n				\n									Event co-sponsored by  								\n				\n				\n				\n																														\n				\n				\n				\n																\n															\n															\n				\n				\n				\n									NIHR Great Ormond Street Hospital Biomedical Research Centre 								\n				\n					\n		\n					\n		\n				\n						\n					\n			\n						\n				\n							\n			\n						\n		\n						\n				\n				\n				\n					Presentations				\n				\n					\n		\n					\n		\n				\n						\n					\n			\n						\n				\n																														\n				\n					\n		\n				\n			\n						\n				\n									Eating\, drinking & swallowing difficulties children born with OA/TOF								\n				\n				\n				\n									Presented by Dr Alex Stewart – Speech and Language Therapist (GOSH) 								\n				\n					\n		\n					\n		\n				\n						\n					\n			\n						\n				\n																														\n				\n					\n		\n				\n			\n						\n				\n									Experience of parents of children born with oesophageal atresia								\n				\n				\n				\n									Presented by Dr Vuokko Wallace – Clinical Psychologist\, University of Bath 								\n				\n					\n		\n					\n		\n				\n						\n					\n			\n						\n				\n																														\n				\n					\n		\n				\n			\n						\n				\n									Gastro issues and Eosinophilic Oesophagitis (EoE) in OA/TOF patients								\n				\n				\n				\n									Presented by Dr Osvaldo Borrelli – Head of Clinical Service\, Consultant Paediatric Gastroenterologist (GOSH) and Honorary Senior Lecturer (UCL) 								\n				\n					\n		\n					\n		\n				\n						\n					\n			\n						\n				\n																														\n				\n					\n		\n				\n			\n						\n				\n									Role of TOF Multi Disciplinary Team (MDT) pathway in improving care in oesophageal atresia								\n				\n				\n				\n									Presented by Ms Dhanya Mullassery – Consultant Neonatal and Paediatric Surgeon (GOSH) and Honorary Senior Lecturer (UCL) 								\n				\n					\n		\n					\n		\n				\n						\n					\n			\n						\n				\n																														\n				\n					\n		\n				\n			\n						\n				\n									Respiratory updates from the INoEA (International Network of Esophageal Atresia) conference and ERS (European Respiratory Society) congress								\n				\n				\n				\n									Presented by Dr Caroline Love\, Chair of TOFS Medical Liaison & Research Subcommittee and Patient Advisory Committee member of the European Lung Foundation (ELF) 								\n				\n					\n		\n					\n		\n				\n						\n					\n			\n						\n				\n									Click here to see the full schedule 								\n				\n				\n				\n							\n			\n						\n		\n						\n				\n					\n		\n					\n		\n				\n						\n					\n			\n						\n				\n									Any Questions?When is the seminar?The seminar is on March 21st\, 2026. Registration on the day opens at 9.30am with presentations beginning at 10.30am. The seminar will close at 4.30pm. How much are tickets?Tickets are free to TOFS’ Members\, Associates and Health Professionals. If you wish to join TOFS\, please sign up at – tofs.org.uk/join-tofs/ Is this a TOFS party?No\, this is an information seminar. Can I watch the seminar online?This is an in-person event only and will not be live streamed. We encourage members to attend in person to get the full benefits of the event\, listening to the speakers; interacting with the Q&A and discussion sessions; meeting TOFS volunteers and staff and chatting with other members of TOFS who will be attending. Some of the presentations may be recorded and posted online\, at a later date. Can I bring my child/children?Yes\, but you might prefer not to. Children below secondary school age are not permitted into the lecture room while presentations are being made. A separate room will be available on the day for families\, and the presentations will be relayed to a screen in that room. All children must be cared for by a responsible adult at all times. The excellent Coram’s Fields Children’s play park is just over the road from the venue. Will there be lunch?Yes\, a light lunch will be provided\, and seating will be available. Will I get a chance to speak to other families / people affected by OA/TOF?Yes\, we will have both lunch and refreshment breaks to allow you chance to chat with other attendees. Is there wheelchair access?We are very grateful to Great Ormond Street Hospital for providing our venue for the day. However\, this is an older building and while the venue is accessible to all\, the lecture theatre itself is accessible via stairs only. If you have any disability that may affect your access or participation in the event\, please let us know when ordering your tickets.Is there a cancellation deadline?Yes. If you can no longer attend\, please let us know via info@tofs.org.uk no later than 7 days before the seminar. This is to ensure that we only cater for the correct number of guests. Where is the seminar taking place?UCL Great Ormond Street Institute of Child Health\, WC1N 1EH If you have any further questions\, please contact us. 								\n				\n					\n		\n				\n			\n						\n				\n									\n					\n				\n											\n									\n\n			\n					\n								\n											\n									\n\n			\n					\n								\n											\n									\n\n			\n					\n								\n									\n															\n													\n						\n													\n																\n												\n				\n								\n				\n					\n		\n					\n		\n				\n						\n					\n			\n						\n				\n							\n			\n						\n		\n						\n				\n					\n		\n					\n		\n				\n						\n					\n			\n						\n				\n					How to get there				\n				\n					\n		\n					\n		\n				\n						\n					\n			\n						\n				\n					Where is the seminar?				\n				\n				\n				\n									The seminar is at the Institute of Child Health (ICH)\, which is a part of University College London – but situated on the GOSH site. The entrance to ICH is at 30 Guilford Street\, just north of Great Ormond Street itself. Postcode is WC1N 1 EH. 								\n				\n					\n		\n				\n			\n						\n				\n																\n															\n															\n				\n					\n		\n					\n		\n				\n						\n					\n			\n						\n				\n							\n			\n		\n						\n				\n					\n		\n					\n		\n				\n						\n					\n			\n						\n				\n									TOFS 2026 Seminar Important Update:We’ve been made aware that there is a part closure on the Piccadilly Line on Saturday. Depending on which direction you’re coming from\, please walk from Holborn Station (we believe the central line is open) or get off the train at Kings Cross/St Pancras and walk from there. 								\n				\n					\n		\n					\n		\n				\n						\n					\n			\n						\n				\n					Public transport				\n				\n				\n				\n									The nearest tube station to ICH / GOSH is Russell Square on the Piccadilly Line. The next closest is Holborn\, on the Central and Piccadilly lines. Kings Cross and Euston stations are both only 0.8 miles away. Farringdon station (Elizabeth line and Metropolitan / Circle plus some overground commuter trains from Brighton\, Cambridge\, Huntingdon) is 0.9 miles. 								\n				\n				\n				\n					Travelling by car				\n				\n				\n				\n									Please note\, the venue is within both the London congestion charge zone and the  ULEZ (Ultra Low Emission) zone. There is some on-street metered parking around GOSH\, including in Guilford Street itself.  Much of this becomes free after 13:30 on a Saturday.  Moreover a significant amount of residents-only parking in this area becomes derestricted (i.e. free) on a Saturday afternoon. There are large underground public car parks close to GOSH at: Brunswick square (NCP) – postcode WC1N 1AF; the Imperial Hotel in Russell Square and underneath the Holiday Inn -Bloomsbury\, postcode WC1N 1HT. 								\n				\n					\n		\n				\n			\n						\n				\n					Outer London Tube stations with parking				\n				\n				\n				\n									Several tube stations near the end of the network in the North and West segments of outer London are close to the M25 and to some of the motorways into London. Unfortunately\, most of the stations listed below are within the ULEZ zone but  outside of the London congestion charge zone. Hillingdon (Metropolitan and Piccadilly lines). Has a car park which TfL says has 283 spaces. Postcode is UB10 9NR. This station is next to a junction on the A40 Western Avenue road\, only 5 miles from the M25 /M40 junction. Moreover\, the next station along the line (Ickenham) also has a large car park effectively providing an overflow car park. Stanmore (Jubilee line). Has a car park which TfL says has 450 spaces. Postcode is HA7 4PD. From the A41 Edgware way\, this is a direct drive along London Road. The A41 is accessed directly from M1 junction 4\, which is only 2 miles from the station. This is also close to the main A1 road. Cockfosters (Piccadilly line) Has a car park which TfL says has 232 spaces. Postcode is EN4 0DZ. It is a direct 3 mile drive down the A111 from the Potter’s Bar Junction (24) of the M25. Epping (Central line) Has a car park which Sabaparking says has 532 spaces. This station is outside the London ULEZ near to the junction of the M11 and M25. It is however not so convenient from the viewpoint of motorway junctions. Postcode is CM16 4HW.  Debden (Central line) Has a car park which Sabaparking says has 206 spaces. It is however only half a mile along the A 1168 from M11 junction 5 and also outside London ULEZ. Postcode is IG10 3TG. Upminster (District line) The car park here appears to be run by NCP\, which says there are 342 spaces. Postcode is RM14 2TD. It is only 3 miles from M25 junction 29\, via a route involving the A127 toward London. However it is inside the ULEZ. This might be a good option for those coming from East Anglia. 								\n				\n					\n		\n					\n		\n				\n						\n					\n			\n						\n				\n					Nearby places to eat				\n				\n				\n				\n									Brunswick centre (https://maps.app.goo.gl/UwBNKmhUe9ciib1G9)  and opposite Russell Square station have a wide variety of places to eat\, including: Itsu\, Nandos\, LEON\, Pret\, Franco MancaLamb’s conduit street has a number of higher end restaurants.Redemptions roasters (Lamb’s conduit street) are great for coffee.
URL:https://tofs.org.uk/event/tofs-seminar-2026/
LOCATION:UCL Great Ormond Street Institute of Child Health\, 30 Guilford Street\, London\, WC1N 1EH\, United Kingdom
CATEGORIES:Adult TOF,Parents & Carers,Professional
ATTACH;FMTTYPE=image/png:https://tofs.org.uk/wp-content/uploads/2020/05/tofs-logo-no-text-500x500-1.png
END:VEVENT
END:VCALENDAR