BEGIN:VCALENDAR
VERSION:2.0
PRODID:-//TOFS | OA/TOF Support - ECPv6.15.17.1//NONSGML v1.0//EN
CALSCALE:GREGORIAN
METHOD:PUBLISH
X-WR-CALNAME:TOFS | OA/TOF Support
X-ORIGINAL-URL:https://tofs.org.uk
X-WR-CALDESC:Events for TOFS | OA/TOF Support
REFRESH-INTERVAL;VALUE=DURATION:PT1H
X-Robots-Tag:noindex
X-PUBLISHED-TTL:PT1H
BEGIN:VTIMEZONE
TZID:Europe/London
BEGIN:DAYLIGHT
TZOFFSETFROM:+0000
TZOFFSETTO:+0100
TZNAME:BST
DTSTART:20240331T010000
END:DAYLIGHT
BEGIN:STANDARD
TZOFFSETFROM:+0100
TZOFFSETTO:+0000
TZNAME:GMT
DTSTART:20241027T010000
END:STANDARD
BEGIN:DAYLIGHT
TZOFFSETFROM:+0000
TZOFFSETTO:+0100
TZNAME:BST
DTSTART:20250330T010000
END:DAYLIGHT
BEGIN:STANDARD
TZOFFSETFROM:+0100
TZOFFSETTO:+0000
TZNAME:GMT
DTSTART:20251026T010000
END:STANDARD
BEGIN:DAYLIGHT
TZOFFSETFROM:+0000
TZOFFSETTO:+0100
TZNAME:BST
DTSTART:20260329T010000
END:DAYLIGHT
BEGIN:STANDARD
TZOFFSETFROM:+0100
TZOFFSETTO:+0000
TZNAME:GMT
DTSTART:20261025T010000
END:STANDARD
END:VTIMEZONE
BEGIN:VEVENT
DTSTART;TZID=Europe/London:20250403T200000
DTEND;TZID=Europe/London:20250403T210000
DTSTAMP:20260420T175655
CREATED:20250310T162433Z
LAST-MODIFIED:20250310T162500Z
UID:28976-1743710400-1743714000@tofs.org.uk
SUMMARY:Virtual meet-up for adults born with OA/TOF
DESCRIPTION:Calling all adults born with OA/TOF. You’re invited for a virtual cuppa and chat with other adults born with OA/TOF. This informal meet-up is led by volunteers\, who are also adults born with OA/TOF\, and is a relaxed\, safe space to share stories and experiences with others that understand what you are going through. So\, come along\, enjoy a relaxing cup of coffee (or tea) and meet others in the #OA / #TOF and #VACTERL community! Meet the volunteers: Alison born 1967\, OA/TOF (long gap). Had a colonic interposition repair at 2.5 years old at Manchester Children’s hospital (Pendlebury)Kate\, born 1957\, OA/TOF (Short gap) and associated anomaliesMichael\, born 1952 with OATOF short gap with various intervention.Alan\, O/A TOF surgery 1969 John Radcliffe Oxfordshire\, and VACTERL anomaliesNote: TOFS charity is facilitating these events\, however they will be led by the Adult OA/TOF Working Group and the TOFS office staff won’t be taking part.  								\n				\n					\n		\n				\n			\n						\n				\n									\n					\n						\n						\n							\n									REGISTER HERE\n					\n					\n				\n								\n				\n				\n				\n																\n															\n															\n				\n					\n		\n					\n		\n				\n						\n					\n			\n						\n				\n							\n			\n						\n		\n						\n				\n				\n				\n					Using Zoom				\n				\n				\n				\n									In order to join this meeting\, you will need to pre-register and follow the unique link you will receive in your email. Please don’t share the link with another user as this could block access for you. Instead\, ask them to register for their own link. For the best experience\, we recommend downloading Zoom to your computer or mobile device before joining the meeting [click for more info]. It is also possible to access the meeting using your web browser (e.g. Chrome\, Safari\, Edge) without downloading any plugins or software [click for info]. The following video goes over the basic controls you can use while in a Zoom meeting.
URL:https://tofs.org.uk/event/virtual-meet-up-for-adults-born-with-oa-tof/
LOCATION:Online
CATEGORIES:Adult TOF
ATTACH;FMTTYPE=image/png:https://tofs.org.uk/wp-content/uploads/2025/03/cuppa-and-chat-april2.png
END:VEVENT
END:VCALENDAR