BEGIN:VCALENDAR
VERSION:2.0
PRODID:-//TOFS | OA/TOF Support - ECPv6.15.17.1//NONSGML v1.0//EN
CALSCALE:GREGORIAN
METHOD:PUBLISH
X-WR-CALNAME:TOFS | OA/TOF Support
X-ORIGINAL-URL:https://tofs.org.uk
X-WR-CALDESC:Events for TOFS | OA/TOF Support
REFRESH-INTERVAL;VALUE=DURATION:PT1H
X-Robots-Tag:noindex
X-PUBLISHED-TTL:PT1H
BEGIN:VTIMEZONE
TZID:Europe/London
BEGIN:DAYLIGHT
TZOFFSETFROM:+0000
TZOFFSETTO:+0100
TZNAME:BST
DTSTART:20240331T010000
END:DAYLIGHT
BEGIN:STANDARD
TZOFFSETFROM:+0100
TZOFFSETTO:+0000
TZNAME:GMT
DTSTART:20241027T010000
END:STANDARD
BEGIN:DAYLIGHT
TZOFFSETFROM:+0000
TZOFFSETTO:+0100
TZNAME:BST
DTSTART:20250330T010000
END:DAYLIGHT
BEGIN:STANDARD
TZOFFSETFROM:+0100
TZOFFSETTO:+0000
TZNAME:GMT
DTSTART:20251026T010000
END:STANDARD
BEGIN:DAYLIGHT
TZOFFSETFROM:+0000
TZOFFSETTO:+0100
TZNAME:BST
DTSTART:20260329T010000
END:DAYLIGHT
BEGIN:STANDARD
TZOFFSETFROM:+0100
TZOFFSETTO:+0000
TZNAME:GMT
DTSTART:20261025T010000
END:STANDARD
END:VTIMEZONE
BEGIN:VEVENT
DTSTART;TZID=Europe/London:20250605T200000
DTEND;TZID=Europe/London:20250605T210000
DTSTAMP:20260424T000746
CREATED:20250403T104119Z
LAST-MODIFIED:20250414T103542Z
UID:10000108-1749153600-1749157200@tofs.org.uk
SUMMARY:Virtual meet-up for adults born with OA/TOF
DESCRIPTION:Don’t miss your chance to meet up with other OA/TOF parents and families from across Exeter and surrounding areas. Sarah\, TOFS Local Contact (TLC) for the South West of England\, is organising an informal get-together in Exeter and you are invited. When:9am – 12noonSaturday\, 4th July\, 2026 Where:Blue Ball Inn\, Sandygate Roundabout\, Exeter\, EX2 7JL [map] This event is free and being organised by Sarah herself.  If you are interested in attending\, please RSVP to Sarah direct via her email (click here) or via her details in the TLC section of the members website.  Hope you can make it. 								\n				\n				\n				\n									Please note\, this event is for parents & carers of children born with OA/TOF.
URL:https://tofs.org.uk/event/virtual-meet-up-for-adults-born-with-oa-tof-15/
LOCATION:Online
CATEGORIES:Adult TOF
ATTACH;FMTTYPE=image/png:https://tofs.org.uk/wp-content/uploads/2025/04/June.png
END:VEVENT
BEGIN:VEVENT
DTSTART;VALUE=DATE:20250628
DTEND;VALUE=DATE:20250629
DTSTAMP:20260424T000746
CREATED:20250529T090523Z
LAST-MODIFIED:20250529T091045Z
UID:10000119-1751068800-1751155199@tofs.org.uk
SUMMARY:VACTERL Association Support Group Get-Together 2025
DESCRIPTION:Don’t miss your chance to meet up with other OA/TOF parents and families from across Exeter and surrounding areas. Sarah\, TOFS Local Contact (TLC) for the South West of England\, is organising an informal get-together in Exeter and you are invited. When:9am – 12noonSaturday\, 4th July\, 2026 Where:Blue Ball Inn\, Sandygate Roundabout\, Exeter\, EX2 7JL [map] This event is free and being organised by Sarah herself.  If you are interested in attending\, please RSVP to Sarah direct via her email (click here) or via her details in the TLC section of the members website.  Hope you can make it. 								\n				\n				\n				\n									Please note\, this event is for parents & carers of children born with OA/TOF.
URL:https://tofs.org.uk/event/vacterl-association-support-group-get-together-2025/
LOCATION:The Great Barr Hotel\, Newton Road Great Barr\, Birmingham\, B43 6HS
CATEGORIES:Adult TOF,Parents & Carers
ATTACH;FMTTYPE=image/jpeg:https://tofs.org.uk/wp-content/uploads/2025/05/vacterl_logo_medium.jpg
END:VEVENT
END:VCALENDAR