BEGIN:VCALENDAR
VERSION:2.0
PRODID:-//TOFS | OA/TOF Support - ECPv6.15.17.1//NONSGML v1.0//EN
CALSCALE:GREGORIAN
METHOD:PUBLISH
X-ORIGINAL-URL:https://tofs.org.uk
X-WR-CALDESC:Events for TOFS | OA/TOF Support
REFRESH-INTERVAL;VALUE=DURATION:PT1H
X-Robots-Tag:noindex
X-PUBLISHED-TTL:PT1H
BEGIN:VTIMEZONE
TZID:Europe/London
BEGIN:DAYLIGHT
TZOFFSETFROM:+0000
TZOFFSETTO:+0100
TZNAME:BST
DTSTART:20240331T010000
END:DAYLIGHT
BEGIN:STANDARD
TZOFFSETFROM:+0100
TZOFFSETTO:+0000
TZNAME:GMT
DTSTART:20241027T010000
END:STANDARD
BEGIN:DAYLIGHT
TZOFFSETFROM:+0000
TZOFFSETTO:+0100
TZNAME:BST
DTSTART:20250330T010000
END:DAYLIGHT
BEGIN:STANDARD
TZOFFSETFROM:+0100
TZOFFSETTO:+0000
TZNAME:GMT
DTSTART:20251026T010000
END:STANDARD
BEGIN:DAYLIGHT
TZOFFSETFROM:+0000
TZOFFSETTO:+0100
TZNAME:BST
DTSTART:20260329T010000
END:DAYLIGHT
BEGIN:STANDARD
TZOFFSETFROM:+0100
TZOFFSETTO:+0000
TZNAME:GMT
DTSTART:20261025T010000
END:STANDARD
END:VTIMEZONE
BEGIN:VEVENT
DTSTART;TZID=Europe/London:20251106T200000
DTEND;TZID=Europe/London:20251106T210000
DTSTAMP:20260423T161409
CREATED:20250812T102630Z
LAST-MODIFIED:20250812T102641Z
UID:10000126-1762459200-1762462800@tofs.org.uk
SUMMARY:Virtual meet-up for adults born with OA/TOF
DESCRIPTION:Don’t miss your chance to meet up with other OA/TOF parents and families from across Exeter and surrounding areas. Sarah\, TOFS Local Contact (TLC) for the South West of England\, is organising an informal get-together in Exeter and you are invited. When:9am – 12noonSaturday\, 4th July\, 2026 Where:Blue Ball Inn\, Sandygate Roundabout\, Exeter\, EX2 7JL [map] This event is free and being organised by Sarah herself.  If you are interested in attending\, please RSVP to Sarah direct via her email (click here) or via her details in the TLC section of the members website.  Hope you can make it. 								\n				\n				\n				\n									Please note\, this event is for parents & carers of children born with OA/TOF.
URL:https://tofs.org.uk/event/virtual-meet-up-for-adults-born-with-oa-tof-5/
LOCATION:Online
CATEGORIES:Adult TOF
ATTACH;FMTTYPE=image/png:https://tofs.org.uk/wp-content/uploads/2025/08/cuppa-and-chat-11-Nov25.png
END:VEVENT
BEGIN:VEVENT
DTSTART;TZID=Europe/London:20251112T110000
DTEND;TZID=Europe/London:20251112T120000
DTSTAMP:20260423T161409
CREATED:20251003T112504Z
LAST-MODIFIED:20251015T114914Z
UID:10000132-1762945200-1762948800@tofs.org.uk
SUMMARY:Parent & Carer virtual meet-up
DESCRIPTION:Don’t miss your chance to meet up with other OA/TOF parents and families from across Exeter and surrounding areas. Sarah\, TOFS Local Contact (TLC) for the South West of England\, is organising an informal get-together in Exeter and you are invited. When:9am – 12noonSaturday\, 4th July\, 2026 Where:Blue Ball Inn\, Sandygate Roundabout\, Exeter\, EX2 7JL [map] This event is free and being organised by Sarah herself.  If you are interested in attending\, please RSVP to Sarah direct via her email (click here) or via her details in the TLC section of the members website.  Hope you can make it. 								\n				\n				\n				\n									Please note\, this event is for parents & carers of children born with OA/TOF.
URL:https://tofs.org.uk/event/parent-carer-virtual-meet-up-2/
LOCATION:Online
CATEGORIES:Parents & Carers
ATTACH;FMTTYPE=image/jpeg:https://tofs.org.uk/wp-content/uploads/2025/10/11-25-Parent-Cuppa-and-chat.jpg
END:VEVENT
BEGIN:VEVENT
DTSTART;TZID=Europe/London:20251122T100000
DTEND;TZID=Europe/London:20251122T123000
DTSTAMP:20260423T161409
CREATED:20251106T094317Z
LAST-MODIFIED:20251106T101307Z
UID:10000145-1763805600-1763814600@tofs.org.uk
SUMMARY:Local Meet-up: Birmingham
DESCRIPTION:Don’t miss your chance to meet up with other OA/TOF parents and families from across Exeter and surrounding areas. Sarah\, TOFS Local Contact (TLC) for the South West of England\, is organising an informal get-together in Exeter and you are invited. When:9am – 12noonSaturday\, 4th July\, 2026 Where:Blue Ball Inn\, Sandygate Roundabout\, Exeter\, EX2 7JL [map] This event is free and being organised by Sarah herself.  If you are interested in attending\, please RSVP to Sarah direct via her email (click here) or via her details in the TLC section of the members website.  Hope you can make it. 								\n				\n				\n				\n									Please note\, this event is for parents & carers of children born with OA/TOF.
URL:https://tofs.org.uk/event/local-meet-up-birmingham-2/
LOCATION:Ronald McDonald House Birmingham\, St Mary’s Row\, Birmingham\, B4 6NY\, United Kingdom
CATEGORIES:Parents & Carers
ATTACH;FMTTYPE=image/jpeg:https://tofs.org.uk/wp-content/uploads/2024/04/local-meet-up.jpg
END:VEVENT
BEGIN:VEVENT
DTSTART;TZID=Europe/London:20251122T140000
DTEND;TZID=Europe/London:20251122T160000
DTSTAMP:20260423T161409
CREATED:20251014T075354Z
LAST-MODIFIED:20251014T082107Z
UID:10000137-1763820000-1763827200@tofs.org.uk
SUMMARY:Local Meet-up: Merseyside/Wirral
DESCRIPTION:Don’t miss your chance to meet up with other OA/TOF parents and families from across Exeter and surrounding areas. Sarah\, TOFS Local Contact (TLC) for the South West of England\, is organising an informal get-together in Exeter and you are invited. When:9am – 12noonSaturday\, 4th July\, 2026 Where:Blue Ball Inn\, Sandygate Roundabout\, Exeter\, EX2 7JL [map] This event is free and being organised by Sarah herself.  If you are interested in attending\, please RSVP to Sarah direct via her email (click here) or via her details in the TLC section of the members website.  Hope you can make it. 								\n				\n				\n				\n									Please note\, this event is for parents & carers of children born with OA/TOF.
URL:https://tofs.org.uk/event/local-meet-up-merseyside-2/
LOCATION:Moreton Presbyterian Church\, 174a Hoylake Road\, Moreton\, Wirral\, CH46 8TQ\, United Kingdom
CATEGORIES:Parents & Carers
ATTACH;FMTTYPE=image/jpeg:https://tofs.org.uk/wp-content/uploads/2024/04/local-meet-up.jpg
END:VEVENT
END:VCALENDAR