BEGIN:VCALENDAR
VERSION:2.0
PRODID:-//TOFS | OA/TOF Support - ECPv6.15.17.1//NONSGML v1.0//EN
CALSCALE:GREGORIAN
METHOD:PUBLISH
X-WR-CALNAME:TOFS | OA/TOF Support
X-ORIGINAL-URL:https://tofs.org.uk
X-WR-CALDESC:Events for TOFS | OA/TOF Support
REFRESH-INTERVAL;VALUE=DURATION:PT1H
X-Robots-Tag:noindex
X-PUBLISHED-TTL:PT1H
BEGIN:VTIMEZONE
TZID:Europe/London
BEGIN:DAYLIGHT
TZOFFSETFROM:+0000
TZOFFSETTO:+0100
TZNAME:BST
DTSTART:20250330T010000
END:DAYLIGHT
BEGIN:STANDARD
TZOFFSETFROM:+0100
TZOFFSETTO:+0000
TZNAME:GMT
DTSTART:20251026T010000
END:STANDARD
BEGIN:DAYLIGHT
TZOFFSETFROM:+0000
TZOFFSETTO:+0100
TZNAME:BST
DTSTART:20260329T010000
END:DAYLIGHT
BEGIN:STANDARD
TZOFFSETFROM:+0100
TZOFFSETTO:+0000
TZNAME:GMT
DTSTART:20261025T010000
END:STANDARD
BEGIN:DAYLIGHT
TZOFFSETFROM:+0000
TZOFFSETTO:+0100
TZNAME:BST
DTSTART:20270328T010000
END:DAYLIGHT
BEGIN:STANDARD
TZOFFSETFROM:+0100
TZOFFSETTO:+0000
TZNAME:GMT
DTSTART:20271031T010000
END:STANDARD
END:VTIMEZONE
BEGIN:VEVENT
DTSTART;VALUE=DATE:20260223
DTEND;VALUE=DATE:20260302
DTSTAMP:20260420T210314
CREATED:20251127T150925Z
LAST-MODIFIED:20260213T115334Z
UID:10000155-1771804800-1772409599@tofs.org.uk
SUMMARY:OA/TOF Awareness Week 2026
DESCRIPTION:Save the date				\n				\n					\n		\n					\n		\n				\n						\n					\n			\n						\n				\n									From the 23rd February until the 1st March we are asking all members to help us raise awareness of Oesophageal Atresia and Tracheo-Oesophageal Fistula (OA/TOF) . To find out how to get involved\, please visit our dedicated Awareness Week page at: https://tofs.org.uk/oa-tof-awareness-week-2026/
URL:https://tofs.org.uk/event/oa-tof-awareness-week-2026/
LOCATION:Various locations
CATEGORIES:TOFS
ATTACH;FMTTYPE=image/png:https://tofs.org.uk/wp-content/uploads/2025/11/TOFS-OA-TOF-Awareness-Week-Get-Ready.png
END:VEVENT
BEGIN:VEVENT
DTSTART;TZID=Europe/London:20260507T190000
DTEND;TZID=Europe/London:20260507T200000
DTSTAMP:20260420T210314
CREATED:20251127T124724Z
LAST-MODIFIED:20260409T132723Z
UID:10000153-1778180400-1778184000@tofs.org.uk
SUMMARY:TOFS Annual General Meeting
DESCRIPTION:Save the date				\n				\n					\n		\n					\n		\n				\n						\n					\n			\n						\n				\n									From the 23rd February until the 1st March we are asking all members to help us raise awareness of Oesophageal Atresia and Tracheo-Oesophageal Fistula (OA/TOF) . To find out how to get involved\, please visit our dedicated Awareness Week page at: https://tofs.org.uk/oa-tof-awareness-week-2026/
URL:https://tofs.org.uk/event/tofs-annual-general-meeting-2/
LOCATION:Online
CATEGORIES:TOFS
ATTACH;FMTTYPE=image/png:https://tofs.org.uk/wp-content/uploads/2020/05/tofs-logo-no-text-500x500-1.png
END:VEVENT
END:VCALENDAR