BEGIN:VCALENDAR
VERSION:2.0
PRODID:-//TOFS | OA/TOF Support - ECPv6.15.17.1//NONSGML v1.0//EN
CALSCALE:GREGORIAN
METHOD:PUBLISH
X-WR-CALNAME:TOFS | OA/TOF Support
X-ORIGINAL-URL:https://tofs.org.uk
X-WR-CALDESC:Events for TOFS | OA/TOF Support
REFRESH-INTERVAL;VALUE=DURATION:PT1H
X-Robots-Tag:noindex
X-PUBLISHED-TTL:PT1H
BEGIN:VTIMEZONE
TZID:Europe/London
BEGIN:DAYLIGHT
TZOFFSETFROM:+0000
TZOFFSETTO:+0100
TZNAME:BST
DTSTART:20230326T010000
END:DAYLIGHT
BEGIN:STANDARD
TZOFFSETFROM:+0100
TZOFFSETTO:+0000
TZNAME:GMT
DTSTART:20231029T010000
END:STANDARD
BEGIN:DAYLIGHT
TZOFFSETFROM:+0000
TZOFFSETTO:+0100
TZNAME:BST
DTSTART:20240331T010000
END:DAYLIGHT
BEGIN:STANDARD
TZOFFSETFROM:+0100
TZOFFSETTO:+0000
TZNAME:GMT
DTSTART:20241027T010000
END:STANDARD
BEGIN:DAYLIGHT
TZOFFSETFROM:+0000
TZOFFSETTO:+0100
TZNAME:BST
DTSTART:20250330T010000
END:DAYLIGHT
BEGIN:STANDARD
TZOFFSETFROM:+0100
TZOFFSETTO:+0000
TZNAME:GMT
DTSTART:20251026T010000
END:STANDARD
END:VTIMEZONE
BEGIN:VEVENT
DTSTART;TZID=Europe/London:20241024T190000
DTEND;TZID=Europe/London:20241024T200000
DTSTAMP:20260424T151250
CREATED:20240920T161219Z
LAST-MODIFIED:20240920T161303Z
UID:10000084-1729796400-1729800000@tofs.org.uk
SUMMARY:Live Q&A: Feeding experiences and oral aversion
DESCRIPTION:Are you the parent or carer of a child born with OA/TOF? Do you wish to meet others in a similar situation? Join us for a virtual cuppa\, and the opportunity to share experiences\, discuss common issues around OA/TOF and get support in a relaxed\, safe space with people who understand. This is an informal get together\, and we hope will be the start of regular meet-ups to help provide peer support for families in our OA/TOF community. The session will be held via Zoom and hosted by our TLC (TOFS Local Contact) volunteers\, who are all also parents to children born with OA/TOF. Pre-booking is essential\, so please register as soon as possible. Attendees must be members of the TOFS charity\, so if you are not yet signed up\, please do so here. Membership is free\, but donations are most welcome. 								\n				\n					\n		\n				\n			\n						\n				\n									Please note: Registration must be completed at least 24 hours before the start of the event. If registration deadlines are missed\, it’s likely that individuals will not be admitted to the meeting. 								\n				\n				\n				\n									\n					\n						\n						\n							\n									CLICK HERE TO REGISTER\n					\n					\n				\n								\n				\n				\n				\n																\n															\n															\n				\n					\n		\n					\n		\n				\n						\n					\n			\n						\n				\n							\n			\n						\n		\n						\n				\n				\n				\n					Using Zoom				\n				\n				\n				\n									In order to join this meeting\, you will need to pre-register and follow the unique link you will receive in your email. Please don’t share the link with another user as this could block access for you. Instead\, ask them to register for their own link. For the best experience\, we recommend downloading Zoom to your computer or mobile device before joining the meeting [click for more info]. It is also possible to access the meeting using your web browser (e.g. Chrome\, Safari\, Edge) without downloading any plugins or software [click for info]. The following video goes over the basic controls you can use while in a Zoom meeting.
URL:https://tofs.org.uk/event/live-qa-feeding-experiences-and-oral-aversion/
LOCATION:Online
CATEGORIES:Adult TOF,Parents & Carers
ATTACH;FMTTYPE=image/png:https://tofs.org.uk/wp-content/uploads/2024/09/Event-Pin-Feeding-Experiences-and-Oral-Aversion.png
END:VEVENT
BEGIN:VEVENT
DTSTART;TZID=Europe/London:20241001T200000
DTEND;TZID=Europe/London:20241001T210000
DTSTAMP:20260424T151250
CREATED:20240730T140649Z
LAST-MODIFIED:20240730T140844Z
UID:10000080-1727812800-1727816400@tofs.org.uk
SUMMARY:Reflux management: Talk with TLCs
DESCRIPTION:Are you the parent or carer of a child born with OA/TOF? Do you wish to meet others in a similar situation? Join us for a virtual cuppa\, and the opportunity to share experiences\, discuss common issues around OA/TOF and get support in a relaxed\, safe space with people who understand. This is an informal get together\, and we hope will be the start of regular meet-ups to help provide peer support for families in our OA/TOF community. The session will be held via Zoom and hosted by our TLC (TOFS Local Contact) volunteers\, who are all also parents to children born with OA/TOF. Pre-booking is essential\, so please register as soon as possible. Attendees must be members of the TOFS charity\, so if you are not yet signed up\, please do so here. Membership is free\, but donations are most welcome. 								\n				\n					\n		\n				\n			\n						\n				\n									Please note: Registration must be completed at least 24 hours before the start of the event. If registration deadlines are missed\, it’s likely that individuals will not be admitted to the meeting. 								\n				\n				\n				\n									\n					\n						\n						\n							\n									CLICK HERE TO REGISTER\n					\n					\n				\n								\n				\n				\n				\n																\n															\n															\n				\n					\n		\n					\n		\n				\n						\n					\n			\n						\n				\n							\n			\n						\n		\n						\n				\n				\n				\n					Using Zoom				\n				\n				\n				\n									In order to join this meeting\, you will need to pre-register and follow the unique link you will receive in your email. Please don’t share the link with another user as this could block access for you. Instead\, ask them to register for their own link. For the best experience\, we recommend downloading Zoom to your computer or mobile device before joining the meeting [click for more info]. It is also possible to access the meeting using your web browser (e.g. Chrome\, Safari\, Edge) without downloading any plugins or software [click for info]. The following video goes over the basic controls you can use while in a Zoom meeting.
URL:https://tofs.org.uk/event/reflux-management-talk-with-tlcs/
LOCATION:Online
CATEGORIES:Parents & Carers
ATTACH;FMTTYPE=image/jpeg:https://tofs.org.uk/wp-content/uploads/2024/07/TLC-events-ads-13.jpg
END:VEVENT
BEGIN:VEVENT
DTSTART;TZID=Europe/London:20241001T183000
DTEND;TZID=Europe/London:20241001T193000
DTSTAMP:20260424T151250
CREATED:20240905T094756Z
LAST-MODIFIED:20241010T161453Z
UID:10000082-1727807400-1727811000@tofs.org.uk
SUMMARY:Virtual meet-up for adults born with OA/TOF
DESCRIPTION:Are you the parent or carer of a child born with OA/TOF? Do you wish to meet others in a similar situation? Join us for a virtual cuppa\, and the opportunity to share experiences\, discuss common issues around OA/TOF and get support in a relaxed\, safe space with people who understand. This is an informal get together\, and we hope will be the start of regular meet-ups to help provide peer support for families in our OA/TOF community. The session will be held via Zoom and hosted by our TLC (TOFS Local Contact) volunteers\, who are all also parents to children born with OA/TOF. Pre-booking is essential\, so please register as soon as possible. Attendees must be members of the TOFS charity\, so if you are not yet signed up\, please do so here. Membership is free\, but donations are most welcome. 								\n				\n					\n		\n				\n			\n						\n				\n									Please note: Registration must be completed at least 24 hours before the start of the event. If registration deadlines are missed\, it’s likely that individuals will not be admitted to the meeting. 								\n				\n				\n				\n									\n					\n						\n						\n							\n									CLICK HERE TO REGISTER\n					\n					\n				\n								\n				\n				\n				\n																\n															\n															\n				\n					\n		\n					\n		\n				\n						\n					\n			\n						\n				\n							\n			\n						\n		\n						\n				\n				\n				\n					Using Zoom				\n				\n				\n				\n									In order to join this meeting\, you will need to pre-register and follow the unique link you will receive in your email. Please don’t share the link with another user as this could block access for you. Instead\, ask them to register for their own link. For the best experience\, we recommend downloading Zoom to your computer or mobile device before joining the meeting [click for more info]. It is also possible to access the meeting using your web browser (e.g. Chrome\, Safari\, Edge) without downloading any plugins or software [click for info]. The following video goes over the basic controls you can use while in a Zoom meeting.
URL:https://tofs.org.uk/event/virtual-meet-up-for-adults-born-with-oa-tof-7/
LOCATION:Online
CATEGORIES:Adult TOF
ATTACH;FMTTYPE=image/png:https://tofs.org.uk/wp-content/uploads/2024/05/cuppa-and-chat-coffee.png
END:VEVENT
BEGIN:VEVENT
DTSTART;TZID=Europe/London:20240922T103000
DTEND;TZID=Europe/London:20240922T123000
DTSTAMP:20260424T151250
CREATED:20240702T115641Z
LAST-MODIFIED:20240906T100740Z
UID:10000079-1727001000-1727008200@tofs.org.uk
SUMMARY:Local Meet-up - Leeds
DESCRIPTION:Are you the parent or carer of a child born with OA/TOF? Do you wish to meet others in a similar situation? Join us for a virtual cuppa\, and the opportunity to share experiences\, discuss common issues around OA/TOF and get support in a relaxed\, safe space with people who understand. This is an informal get together\, and we hope will be the start of regular meet-ups to help provide peer support for families in our OA/TOF community. The session will be held via Zoom and hosted by our TLC (TOFS Local Contact) volunteers\, who are all also parents to children born with OA/TOF. Pre-booking is essential\, so please register as soon as possible. Attendees must be members of the TOFS charity\, so if you are not yet signed up\, please do so here. Membership is free\, but donations are most welcome. 								\n				\n					\n		\n				\n			\n						\n				\n									Please note: Registration must be completed at least 24 hours before the start of the event. If registration deadlines are missed\, it’s likely that individuals will not be admitted to the meeting. 								\n				\n				\n				\n									\n					\n						\n						\n							\n									CLICK HERE TO REGISTER\n					\n					\n				\n								\n				\n				\n				\n																\n															\n															\n				\n					\n		\n					\n		\n				\n						\n					\n			\n						\n				\n							\n			\n						\n		\n						\n				\n				\n				\n					Using Zoom				\n				\n				\n				\n									In order to join this meeting\, you will need to pre-register and follow the unique link you will receive in your email. Please don’t share the link with another user as this could block access for you. Instead\, ask them to register for their own link. For the best experience\, we recommend downloading Zoom to your computer or mobile device before joining the meeting [click for more info]. It is also possible to access the meeting using your web browser (e.g. Chrome\, Safari\, Edge) without downloading any plugins or software [click for info]. The following video goes over the basic controls you can use while in a Zoom meeting.
URL:https://tofs.org.uk/event/local-meet-up-leeds/
LOCATION:Roundhay Park\, 9 Park Ave\, Roundhay\, Leeds\, LS8 2WF\, United Kingdom
ATTACH;FMTTYPE=image/jpeg:https://tofs.org.uk/wp-content/uploads/2024/04/local-meet-up.jpg
END:VEVENT
BEGIN:VEVENT
DTSTART;TZID=Europe/London:20240921T130000
DTEND;TZID=Europe/London:20240921T160000
DTSTAMP:20260424T151250
CREATED:20240802T094500Z
LAST-MODIFIED:20240918T132726Z
UID:10000081-1726923600-1726934400@tofs.org.uk
SUMMARY:Local Meet-up - Merseyside
DESCRIPTION:Are you the parent or carer of a child born with OA/TOF? Do you wish to meet others in a similar situation? Join us for a virtual cuppa\, and the opportunity to share experiences\, discuss common issues around OA/TOF and get support in a relaxed\, safe space with people who understand. This is an informal get together\, and we hope will be the start of regular meet-ups to help provide peer support for families in our OA/TOF community. The session will be held via Zoom and hosted by our TLC (TOFS Local Contact) volunteers\, who are all also parents to children born with OA/TOF. Pre-booking is essential\, so please register as soon as possible. Attendees must be members of the TOFS charity\, so if you are not yet signed up\, please do so here. Membership is free\, but donations are most welcome. 								\n				\n					\n		\n				\n			\n						\n				\n									Please note: Registration must be completed at least 24 hours before the start of the event. If registration deadlines are missed\, it’s likely that individuals will not be admitted to the meeting. 								\n				\n				\n				\n									\n					\n						\n						\n							\n									CLICK HERE TO REGISTER\n					\n					\n				\n								\n				\n				\n				\n																\n															\n															\n				\n					\n		\n					\n		\n				\n						\n					\n			\n						\n				\n							\n			\n						\n		\n						\n				\n				\n				\n					Using Zoom				\n				\n				\n				\n									In order to join this meeting\, you will need to pre-register and follow the unique link you will receive in your email. Please don’t share the link with another user as this could block access for you. Instead\, ask them to register for their own link. For the best experience\, we recommend downloading Zoom to your computer or mobile device before joining the meeting [click for more info]. It is also possible to access the meeting using your web browser (e.g. Chrome\, Safari\, Edge) without downloading any plugins or software [click for info]. The following video goes over the basic controls you can use while in a Zoom meeting.
URL:https://tofs.org.uk/event/local-meet-up-merseyside/
LOCATION:Strawberry Field\, Beaconsfield Road\, Liverpool\, Merseyside\, L25 6EJ\, United Kingdom
CATEGORIES:Parents & Carers,Support
ATTACH;FMTTYPE=image/jpeg:https://tofs.org.uk/wp-content/uploads/2024/04/local-meet-up.jpg
END:VEVENT
BEGIN:VEVENT
DTSTART;VALUE=DATE:20240908
DTEND;VALUE=DATE:20240909
DTSTAMP:20260424T151250
CREATED:20230908T130038Z
LAST-MODIFIED:20240325T115119Z
UID:10000041-1725753600-1725839999@tofs.org.uk
SUMMARY:Great North Run 2024
DESCRIPTION:Are you the parent or carer of a child born with OA/TOF? Do you wish to meet others in a similar situation? Join us for a virtual cuppa\, and the opportunity to share experiences\, discuss common issues around OA/TOF and get support in a relaxed\, safe space with people who understand. This is an informal get together\, and we hope will be the start of regular meet-ups to help provide peer support for families in our OA/TOF community. The session will be held via Zoom and hosted by our TLC (TOFS Local Contact) volunteers\, who are all also parents to children born with OA/TOF. Pre-booking is essential\, so please register as soon as possible. Attendees must be members of the TOFS charity\, so if you are not yet signed up\, please do so here. Membership is free\, but donations are most welcome. 								\n				\n					\n		\n				\n			\n						\n				\n									Please note: Registration must be completed at least 24 hours before the start of the event. If registration deadlines are missed\, it’s likely that individuals will not be admitted to the meeting. 								\n				\n				\n				\n									\n					\n						\n						\n							\n									CLICK HERE TO REGISTER\n					\n					\n				\n								\n				\n				\n				\n																\n															\n															\n				\n					\n		\n					\n		\n				\n						\n					\n			\n						\n				\n							\n			\n						\n		\n						\n				\n				\n				\n					Using Zoom				\n				\n				\n				\n									In order to join this meeting\, you will need to pre-register and follow the unique link you will receive in your email. Please don’t share the link with another user as this could block access for you. Instead\, ask them to register for their own link. For the best experience\, we recommend downloading Zoom to your computer or mobile device before joining the meeting [click for more info]. It is also possible to access the meeting using your web browser (e.g. Chrome\, Safari\, Edge) without downloading any plugins or software [click for info]. The following video goes over the basic controls you can use while in a Zoom meeting.
URL:https://tofs.org.uk/event/great-north-run-2024/
LOCATION:Newcastle\, United Kingdom
CATEGORIES:Fundraising
ATTACH;FMTTYPE=image/jpeg:https://tofs.org.uk/wp-content/uploads/2023/09/WhatsApp-Image-2022-09-11-at-20.37.51-4-e1694096386805.jpeg
END:VEVENT
BEGIN:VEVENT
DTSTART;TZID=Europe/London:20240903T190000
DTEND;TZID=Europe/London:20240903T200000
DTSTAMP:20260424T151250
CREATED:20240611T122438Z
LAST-MODIFIED:20240823T112702Z
UID:10000077-1725390000-1725393600@tofs.org.uk
SUMMARY:Virtual meet-up for adults born with OA/TOF
DESCRIPTION:Are you the parent or carer of a child born with OA/TOF? Do you wish to meet others in a similar situation? Join us for a virtual cuppa\, and the opportunity to share experiences\, discuss common issues around OA/TOF and get support in a relaxed\, safe space with people who understand. This is an informal get together\, and we hope will be the start of regular meet-ups to help provide peer support for families in our OA/TOF community. The session will be held via Zoom and hosted by our TLC (TOFS Local Contact) volunteers\, who are all also parents to children born with OA/TOF. Pre-booking is essential\, so please register as soon as possible. Attendees must be members of the TOFS charity\, so if you are not yet signed up\, please do so here. Membership is free\, but donations are most welcome. 								\n				\n					\n		\n				\n			\n						\n				\n									Please note: Registration must be completed at least 24 hours before the start of the event. If registration deadlines are missed\, it’s likely that individuals will not be admitted to the meeting. 								\n				\n				\n				\n									\n					\n						\n						\n							\n									CLICK HERE TO REGISTER\n					\n					\n				\n								\n				\n				\n				\n																\n															\n															\n				\n					\n		\n					\n		\n				\n						\n					\n			\n						\n				\n							\n			\n						\n		\n						\n				\n				\n				\n					Using Zoom				\n				\n				\n				\n									In order to join this meeting\, you will need to pre-register and follow the unique link you will receive in your email. Please don’t share the link with another user as this could block access for you. Instead\, ask them to register for their own link. For the best experience\, we recommend downloading Zoom to your computer or mobile device before joining the meeting [click for more info]. It is also possible to access the meeting using your web browser (e.g. Chrome\, Safari\, Edge) without downloading any plugins or software [click for info]. The following video goes over the basic controls you can use while in a Zoom meeting.
URL:https://tofs.org.uk/event/virtual-meet-up-for-adults-born-with-oa-tof-6/
LOCATION:Online
CATEGORIES:Adult TOF
ATTACH;FMTTYPE=image/png:https://tofs.org.uk/wp-content/uploads/2024/05/cuppa-and-chat-coffee.png
END:VEVENT
END:VCALENDAR