BEGIN:VCALENDAR
VERSION:2.0
PRODID:-//TOFS | OA/TOF Support - ECPv6.15.17.1//NONSGML v1.0//EN
CALSCALE:GREGORIAN
METHOD:PUBLISH
X-WR-CALNAME:TOFS | OA/TOF Support
X-ORIGINAL-URL:https://tofs.org.uk
X-WR-CALDESC:Events for TOFS | OA/TOF Support
REFRESH-INTERVAL;VALUE=DURATION:PT1H
X-Robots-Tag:noindex
X-PUBLISHED-TTL:PT1H
BEGIN:VTIMEZONE
TZID:Europe/London
BEGIN:DAYLIGHT
TZOFFSETFROM:+0000
TZOFFSETTO:+0100
TZNAME:BST
DTSTART:20230326T010000
END:DAYLIGHT
BEGIN:STANDARD
TZOFFSETFROM:+0100
TZOFFSETTO:+0000
TZNAME:GMT
DTSTART:20231029T010000
END:STANDARD
BEGIN:DAYLIGHT
TZOFFSETFROM:+0000
TZOFFSETTO:+0100
TZNAME:BST
DTSTART:20240331T010000
END:DAYLIGHT
BEGIN:STANDARD
TZOFFSETFROM:+0100
TZOFFSETTO:+0000
TZNAME:GMT
DTSTART:20241027T010000
END:STANDARD
BEGIN:DAYLIGHT
TZOFFSETFROM:+0000
TZOFFSETTO:+0100
TZNAME:BST
DTSTART:20250330T010000
END:DAYLIGHT
BEGIN:STANDARD
TZOFFSETFROM:+0100
TZOFFSETTO:+0000
TZNAME:GMT
DTSTART:20251026T010000
END:STANDARD
END:VTIMEZONE
BEGIN:VEVENT
DTSTART;TZID=Europe/London:20240903T190000
DTEND;TZID=Europe/London:20240903T200000
DTSTAMP:20260420T210401
CREATED:20240611T122438Z
LAST-MODIFIED:20240823T112702Z
UID:10000077-1725390000-1725393600@tofs.org.uk
SUMMARY:Virtual meet-up for adults born with OA/TOF
DESCRIPTION:Take big strides in 2026 and join us in the capital for Edinburgh Kiltwalk on 13 September. Every step you take will make a BIG difference for TOFS. With 3 challenges ranging from 4.6 miles right up to 21 miles there is sure to be a Kiltwalk to suit you. Sign up as a team or as an individual and families are welcome too. Note: Applications for this event are managed via our partner\, Kiltwalk. 								\n				\n					\n		\n					\n		\n				\n						\n					\n			\n						\n				\n					Entry fee:				\n				\n				\n				\n									£20 (21mile / 11.2miles)£13 (4.6miles – Adult)£7 (4.6miles – Child up to 15 years old)								\n				\n				\n				\n									This fee is paid direct to the event organiser on application.  								\n				\n					\n		\n				\n			\n						\n				\n					Suggested fundraising target:				\n				\n				\n				\n									£100								\n				\n				\n				\n									There is no set target for this event however we would suggest aiming for a minimum of £100. But you don’t have to stop there! Many of our fundraisers really go for it and most will raise far above that amount! 								\n				\n					\n		\n					\n		\n				\n						\n					\n			\n						\n				\n									\n					\n						\n						\n							\n									SIGN UP\n					\n					\n				\n								\n				\n					\n		\n				\n			\n						\n				\n									\n					\n						\n						\n							\n									Get more info\n					\n					\n				\n								\n				\n					\n		\n					\n		\n				\n						\n					\n			\n						\n				\n							\n							\n					\n											\n														\n							\n					\n											\n														\n							\n					\n											\n														\n							\n					\n											\n														\n					\n					\n				\n					\n		\n				\n			\n						\n				\n							\n					\n						\n				\n					\n		\n					\n		\n				\n						\n					\n			\n							\n		\n					\n		\n				\n							\n							\n					\n			\n						\n				\n					Upcoming challenge events				\n				\n				\n				\n					\n	\n		\n	\n		8 events found.	\n	\n		\n	\n\n		\n	\n\n		\n	\n\n	\n\n\n		\n		\n\n		\n		\n\n	\n	Events\n\n	\n	\n	\n	\n\n	\n	\n		\n	\n		\n	\n\n	\n\n\n		\n	\n		\n	\n\n	\n\n	\n\n\n	\n	Today\n\n	\n	\n		\n							\n					Now				\n				\n					Now				\n					\n					 - \n			\n				\n					11/09/2026				\n				\n					11th September				\n			\n				\n	\n\n	\n	\n		Select date.	\n	\n	\n	\n		\n	\n\n	\n	\n		\n	\n\n	\n\n\n	\n	\n	\n\n\n\n\n		\n		\n			\n				List of events in Photo View			\n			\n\n									\n					\n	\n		\n	\n		Kiltwalk Glasgow 2026\n		\n	\n\n\n		\n			\n	\n		\n			Apr		\n		\n			25		\n	\n\n			\n				\n	\n		Kiltwalk Glasgow 2026	\n\n				\n				25th April - 26th April		\n											\n		\n	\n\n\n									\n					\n	\n		\n	\n		Jurassic Coast Challenge\n		\n	\n\n\n		\n			\n	\n		\n			May		\n		\n			16		\n	\n\n			\n				\n	\n		Jurassic Coast Challenge	\n\n				\n				16th May - 17th May		\n											\n		\n	\n\n\n									\n					\n	\n		\n	\n		Hackney Half 2026\n		\n	\n\n\n		\n			\n	\n		\n			May		\n		\n			17		\n	\n\n			\n				\n	\n		Hackney Half 2026	\n\n				\n				\n			All day		\n		\n											\n		\n	\n\n\n									\n					\n	\n		\n	\n		London 2 Brighton Challenge\n		\n	\n\n\n		\n			\n	\n		\n			May		\n		\n			23		\n	\n\n			\n				\n	\n		London 2 Brighton Challenge	\n\n				\n				23rd May - 24th May		\n											\n		\n	\n\n\n									\n					\n	\n		\n	\n		Kiltwalk Aberdeen 2026\n		\n	\n\n\n		\n			\n	\n		\n			Jun		\n		\n			7		\n	\n\n			\n				\n	\n		Kiltwalk Aberdeen 2026	\n\n				\n				\n			All day		\n		\n											\n		\n	\n\n\n									\n					\n	\n		\n	\n		Peak District Ultra Challenge 2026\n		\n	\n\n\n		\n			\n	\n		\n			Jul		\n		\n			4		\n	\n\n			\n				\n	\n		Peak District Ultra Challenge 2026	\n\n				\n				4th July - 5th July		\n											\n		\n	\n\n\n									\n					\n	\n		\n	\n		Kiltwalk Dundee 2026\n		\n	\n\n\n		\n			\n	\n		\n			Aug		\n		\n			16		\n	\n\n			\n				\n	\n		Kiltwalk Dundee 2026	\n\n				\n				\n			All day		\n		\n											\n		\n	\n\n\n									\n					\n	\n		\n	\n		Thames Moonlight 10 Walk\n		\n	\n\n\n		\n			\n	\n		\n			Sep		\n		\n			11		\n	\n\n			\n				\n	\n		Thames Moonlight 10 Walk	\n\n				\n				\n			All day		\n		\n											\n		\n	\n\n\n				\n			\n\n		\n\n		\n	\n		\n	\n		\n	\n\n		\n			Previous Events		\n	\n\n\n		\n	\n		Today	\n\n\n		\n	\n		\n			Next Events		\n		\n	\n\n	\n\n	\n\n\n		\n	\n		\n			\n				Subscribe to calendar			\n			\n	\n\n		\n		\n			\n									\n\n	\n		Google Calendar	\n\n									\n\n	\n		iCalendar	\n\n									\n\n	\n		Outlook 365	\n\n									\n\n	\n		Outlook Live	\n\n									\n\n	\n		Export .ics file	\n\n									\n\n	\n		Export Outlook .ics file
URL:https://tofs.org.uk/event/virtual-meet-up-for-adults-born-with-oa-tof-6/
LOCATION:Online
CATEGORIES:Adult TOF
ATTACH;FMTTYPE=image/png:https://tofs.org.uk/wp-content/uploads/2024/05/cuppa-and-chat-coffee.png
END:VEVENT
END:VCALENDAR