BEGIN:VCALENDAR
VERSION:2.0
PRODID:-//TOFS | OA/TOF Support - ECPv6.15.17.1//NONSGML v1.0//EN
CALSCALE:GREGORIAN
METHOD:PUBLISH
X-ORIGINAL-URL:https://tofs.org.uk
X-WR-CALDESC:Events for TOFS | OA/TOF Support
REFRESH-INTERVAL;VALUE=DURATION:PT1H
X-Robots-Tag:noindex
X-PUBLISHED-TTL:PT1H
BEGIN:VTIMEZONE
TZID:Europe/London
BEGIN:DAYLIGHT
TZOFFSETFROM:+0000
TZOFFSETTO:+0100
TZNAME:BST
DTSTART:20250330T010000
END:DAYLIGHT
BEGIN:STANDARD
TZOFFSETFROM:+0100
TZOFFSETTO:+0000
TZNAME:GMT
DTSTART:20251026T010000
END:STANDARD
BEGIN:DAYLIGHT
TZOFFSETFROM:+0000
TZOFFSETTO:+0100
TZNAME:BST
DTSTART:20260329T010000
END:DAYLIGHT
BEGIN:STANDARD
TZOFFSETFROM:+0100
TZOFFSETTO:+0000
TZNAME:GMT
DTSTART:20261025T010000
END:STANDARD
BEGIN:DAYLIGHT
TZOFFSETFROM:+0000
TZOFFSETTO:+0100
TZNAME:BST
DTSTART:20270328T010000
END:DAYLIGHT
BEGIN:STANDARD
TZOFFSETFROM:+0100
TZOFFSETTO:+0000
TZNAME:GMT
DTSTART:20271031T010000
END:STANDARD
END:VTIMEZONE
BEGIN:VEVENT
DTSTART;VALUE=DATE:20260419
DTEND;VALUE=DATE:20260420
DTSTAMP:20260420T123702
CREATED:20250625T162541Z
LAST-MODIFIED:20251103T144013Z
UID:10000122-1776556800-1776643199@tofs.org.uk
SUMMARY:Manchester Marathon 2026
DESCRIPTION:This event has now sold out. Please see our other challenge events if you would like to fundraise for TOFS. \nThe adidas Manchester Marathon\, the UK’s second largest marathon and one of Europe’s largest is an iconic event drawing participants from all over the world to the vibrant streets of Greater Manchester. \nThe event prides itself in welcoming all to take on the 26.2 mile challenge\, from some superb elite runners\, to those who thought completing a marathon would never be possible. \nMany regular runners find this the ideal event to get a personal best time\, whilst everybody finds the incredible Mancunian support throughout the course unforgettable. \nEntry fee:\n£80\n+ £3.20 booking fee \nYour place will be subsidised by TOFS. Your entry fee goes towards the admin fees that the race organisers charge us. \nFundraising commitment:\n£450\nThis is the minimum amount (before Gift Aid) that we would expect a participant to raise for a TOFS subsidised place. \nBut you don’t have to stop there! Most of our runners raise a lot more than the minimum! \n\nEVENT CLOSED\n \nNote: Applications for this event are managed via our partner\, Run for Charity. Scroll down to see our terms and conditions for this event. \nUpcoming challenge events\n8 events found. \n\n\n\n\n\n\n\n\n\n\nToday\n\n\nNow\nNow\n\n–\n\n04/07/2026\n4th July 2026\n \n\n\nSelect date. \n \n\n\nBig Splash Swimathon 2025\n\n\n\nOct\n25\n\n25th October – 2nd November \n\nBig Splash Swimathon 2025 \n\n\nRun Alton Towers 5k/10k/Half Marathon\n\n\n\nNov\n15\n\n15th November – 16th November \n\nRun Alton Towers 5k/10k/Half Marathon \n\n\nLondon Winter Walk\n\n\n\nJan\n24\n\n24th January 2026 – 25th January 2026 \n\nLondon Winter Walk \n\n\nKiltwalk Glasgow 2026\n\n\n\nApr\n25\n\n25th April 2026 – 26th April 2026 \n\nKiltwalk Glasgow 2026 \n\n\nJurassic Coast Challenge\n\n\n\nMay\n16\n\n16th May 2026 – 17th May 2026 \n\nJurassic Coast Challenge \n\n\nHackney Half 2026\n\n\n\nMay\n17\n\n\nAll day  \n\nHackney Half 2026 \n\n\nLondon 2 Brighton Challenge\n\n\n\nMay\n23\n\n23rd May 2026 – 24th May 2026 \n\nLondon 2 Brighton Challenge \n\n\nPeak District Ultra Challenge 2026\n\n\n\nJul\n4\n\n4th July 2026 – 5th July 2026 \n\nPeak District Ultra Challenge 2026 \n\n\n\n\nPrevious Events\n\n\nToday \n\nNext Events \n\n\n\n\nSubscribe to calendar  \n\n\nGoogle Calendar \n\niCalendar \n\nOutlook 365 \n\nOutlook Live \n\nExport .ics file \n\nExport Outlook .ics file \n\n\nhttps://www.youtube.com/watch?v=0P0vyVFdCaw \nNote: Applications for this event are managed via our partner\, Run for Charity. Scroll down to see our terms and conditions for this event. \nTOFS Terms and Conditions \n\nYou confirm that the information on your application form is complete and correct\, and that you will be 18 years of age or older on the day of the event.\nYou recognise that TOFS will retain for a reasonable period the information that you supply by applying\, whether you are selected for a TOFS place or not.\nYou recognise that you apply and (if selected by TOFS) run at your own risk in accordance with standard organiser’s regulations and conditions\, which are in addition to these TOFS terms and conditions.\nYou confirm that\, so far as you are aware\, you have no medical or health issues which would mean that it would be unsafe or unwise for you to train for and run this event.\nYou confirm that you shall (if selected to run for TOFS) diligently undertake the running training that is appropriate as preparation for a half marathon\, in the months preceding the run.\nShould you be accepted to run for TOFS using a TOFS place\, you agree to pay the registration fee shown plus any booking fee. This is to cover some administration costs. The fee will count towards your fund-raising pledge. If the fee is not cleared in the TOFS bank account within 21 days of applying.\nYou confirm that you shall make diligent efforts to contact donors and sponsors and set up fundraising mechanisms so as to raise at least the amount you have suggested for TOFS\, and TOFS shall be the only charity for which you raise funds in this event You must show at least one month before the marathon that your fundraising has commenced for instance by setting up a fundraising webpage and receiving at least an initial donation. TOFS strongly recommends the use of Peoples Fundraising.\nIf allocated a place\, you are pledging to raise your suggested amount for TOFS and agreeing to make up any shortfall yourself or via your own further fundraising efforts to the required minimum to be received by TOFS within 30 days of the event date.\nIf allocated a place\, you agree to inform TOFS as soon as possible in writing\, preferably by email\, should you become unable to take part in the event. Once this is acknowledged by TOFS\, your minimum sponsorship obligation will cease. You understand that\, should you withdraw from your place\, the registration fee is non-refundable and will be retained by TOFS to cover expenses.\nYou agree that\, should you withdraw from your place\, you will co-operate and correspond with TOFS and the event organisers such that another runner chosen by TOFS can take your place. At the discretion of TOFS\, and subject to some conditions\, you may be offered a TOFS place in the next year’s event.\nIf you are unable to participate in the event for any reason\, all donated monies collected by you or donated via third parties (such as fundraising websites) in support of TOFS must be forwarded to TOFS. Money which has been pledged to you on condition of your completing the event must be returned to the individual sponsors\, or donated to TOFS if those sponsors are happy to do so. Monies already received by TOFS will not be refunded.\nIf allocated a TOFS place\, you agree that images taken on the day of the event may be used by TOFS to help promote our fundraising efforts.\nYou understand that\, if allocated a TOFS place\, you will be required to also complete in full (and online) the organiser’s registration process\, and to confirm to TOFS as soon as you have done so.\nBy applying for this event\, you accept and agree to the terms and conditions listed above.\n\n\nCLICK HERE TO SIGN UP
URL:https://tofs.org.uk/event/manchester-marathon-2026/
LOCATION:Manchester\, Portland Street\, M1 3LF\, United Kingdom
CATEGORIES:Fundraising
ATTACH;FMTTYPE=image/png:https://tofs.org.uk/wp-content/uploads/2025/06/manchester-marathon-logo-TOFS.png
END:VEVENT
END:VCALENDAR