BEGIN:VCALENDAR
VERSION:2.0
PRODID:-//TOFS | OA/TOF Support - ECPv6.15.17.1//NONSGML v1.0//EN
CALSCALE:GREGORIAN
METHOD:PUBLISH
X-WR-CALNAME:TOFS | OA/TOF Support
X-ORIGINAL-URL:https://tofs.org.uk
X-WR-CALDESC:Events for TOFS | OA/TOF Support
REFRESH-INTERVAL;VALUE=DURATION:PT1H
X-Robots-Tag:noindex
X-PUBLISHED-TTL:PT1H
BEGIN:VTIMEZONE
TZID:Europe/London
BEGIN:DAYLIGHT
TZOFFSETFROM:+0000
TZOFFSETTO:+0100
TZNAME:BST
DTSTART:20250330T010000
END:DAYLIGHT
BEGIN:STANDARD
TZOFFSETFROM:+0100
TZOFFSETTO:+0000
TZNAME:GMT
DTSTART:20251026T010000
END:STANDARD
BEGIN:DAYLIGHT
TZOFFSETFROM:+0000
TZOFFSETTO:+0100
TZNAME:BST
DTSTART:20260329T010000
END:DAYLIGHT
BEGIN:STANDARD
TZOFFSETFROM:+0100
TZOFFSETTO:+0000
TZNAME:GMT
DTSTART:20261025T010000
END:STANDARD
BEGIN:DAYLIGHT
TZOFFSETFROM:+0000
TZOFFSETTO:+0100
TZNAME:BST
DTSTART:20270328T010000
END:DAYLIGHT
BEGIN:STANDARD
TZOFFSETFROM:+0100
TZOFFSETTO:+0000
TZNAME:GMT
DTSTART:20271031T010000
END:STANDARD
END:VTIMEZONE
BEGIN:VEVENT
DTSTART;TZID=Europe/London:20260425T110000
DTEND;TZID=Europe/London:20260425T123000
DTSTAMP:20260418T235232
CREATED:20260213T114454Z
LAST-MODIFIED:20260407T170415Z
UID:10000163-1777114800-1777120200@tofs.org.uk
SUMMARY:Local Meet-up: Manchester
DESCRIPTION:Don’t miss your chance to meet up with other OA/TOF parents and families from across Manchester and surrounding areas. \nTo’neill\, TOFS Local Contact (TLC) for Manchester\, is organising an informal get-together for children born with OA/TOF and their families. \nWhen: \n25th April 2026\, 11:00am-12.30pm \nWhere: Ladybridge Connect Centre Café\, Off Meadway Rd\, Cheadle Hulme\, Stockport SK8 5NZ (map) \nThis event is free and being organised by To’neill herself. \nIf you are interested in attending\, please RSVP to To’neill directly via her details in the members section of the website. \nHope you can make it. \nPlease note\, this event is for parents & carers of children born with OA/TOF.
URL:https://tofs.org.uk/event/local-meet-up-manchester/
LOCATION:Ladybridge Connect Centre\,\, Stockport\, SK8 5NZ\, United Kingdom
CATEGORIES:Parents & Carers
ATTACH;FMTTYPE=image/jpeg:https://tofs.org.uk/wp-content/uploads/2024/04/local-meet-up.jpg
END:VEVENT
BEGIN:VEVENT
DTSTART;TZID=Europe/London:20260505T200000
DTEND;TZID=Europe/London:20260505T210000
DTSTAMP:20260418T235232
CREATED:20260326T122522Z
LAST-MODIFIED:20260326T124813Z
UID:10000169-1778011200-1778014800@tofs.org.uk
SUMMARY:Meet-up for adults born with OA/TOF (virtual)
DESCRIPTION:Calling all adults born with OA/TOF. \nYou’re invited for a virtual cuppa and chat with other adults born with OA/TOF. \nThis informal meet-up is led by volunteers\, who are also adults born with OA/TOF\, and is a relaxed\, safe space to share stories and experiences with others that understand what you are going through. \nSo\, come along\, enjoy a relaxing cup of coffee (or tea) and meet others in the #OA / #TOF and #VACTERL community! \nMeet the volunteers: \n\nAlison born 1967\, OA/TOF (long gap). Had a colonic interposition repair at 2.5 years old at Manchester Children’s hospital (Pendlebury)\nKate\, born 1957\, OA/TOF (Short gap) and associated anomalies\nMichael\, born 1952 with OA/TOF short gap with various intervention.\nAlan\, O/A TOF surgery 1969 John Radcliffe Oxfordshire\, and VACTERL anomalies\n\nNote: TOFS charity is facilitating these events\, however they will be led by the Adult OA/TOF Working Group and the TOFS office staff won’t be taking part. \nPlease note: Registration must be completed at least 24 hours before the start of the event. If registration deadlines are missed\, it’s likely that individuals will not be admitted to the meeting. \n					\n									CLICK HERE TO REGISTER\n					 \nUsing Zoom\nIn order to join this meeting\, you will need to pre-register and follow the unique link you will receive in your email. Please don’t share the link with another user as this could block access for you. Instead\, ask them to register for their own link. \nFor the best experience\, we recommend downloading Zoom to your computer or mobile device before joining the meeting [click for more info]. \nIt is also possible to access the meeting using your web browser (e.g. Chrome\, Safari\, Edge) without downloading any plugins or software [click for info]. \nThe following video goes over the basic controls you can use while in a Zoom meeting. \nhttps://www.youtube.com/watch?v=78fn4r6fhns
URL:https://tofs.org.uk/event/meet-up-for-adults-born-with-oa-tof-virtual-2/
LOCATION:Online
CATEGORIES:Adult TOF
ATTACH;FMTTYPE=image/png:https://tofs.org.uk/wp-content/uploads/2026/03/5-May-Adult-cuppa-and-chat.png
END:VEVENT
BEGIN:VEVENT
DTSTART;TZID=Europe/London:20260512T193000
DTEND;TZID=Europe/London:20260512T203000
DTSTAMP:20260418T235232
CREATED:20260326T143342Z
LAST-MODIFIED:20260326T143602Z
UID:10000171-1778614200-1778617800@tofs.org.uk
SUMMARY:Parent & carer meet-up (virtual)
DESCRIPTION:Are you the parent or carer of a child born with OA/TOF? Do you wish to meet others in a similar situation? Join us for a virtual cuppa\, and the opportunity to share experiences\, discuss common issues around OA/TOF and get support in a relaxed\, safe space with people who understand. \nThis is an informal get together\, and we hope will be the start of regular meet-ups to help provide peer support for families in our OA/TOF community. The session will be held via Zoom and hosted by our TLC (TOFS Local Contact) volunteers\, who are all also parents to children born with OA/TOF. \nPre-booking is essential\, so please register as soon as possible. Attendees must be members of the TOFS charity\, so if you are not yet signed up\, please do so here. Membership is free\, but donations are most welcome. \nPlease note: Registration must be completed at least 24 hours before the start of the event. If registration deadlines are missed\, it’s likely that individuals will not be admitted to the meeting. \n					\n									CLICK HERE TO REGISTER
URL:https://tofs.org.uk/event/parent-carer-meet-up-virtual/
LOCATION:Online
CATEGORIES:Parents & Carers
ATTACH;FMTTYPE=image/png:https://tofs.org.uk/wp-content/uploads/2026/03/5-Jun-26-Parent-Cuppa-and-chat.png
END:VEVENT
BEGIN:VEVENT
DTSTART;TZID=Europe/London:20260613T223000
DTEND;TZID=Europe/London:20260613T233000
DTSTAMP:20260418T235232
CREATED:20260326T125040Z
LAST-MODIFIED:20260326T125554Z
UID:10000170-1781389800-1781393400@tofs.org.uk
SUMMARY:International meet-up for adults born with OA/TOF (virtual)
DESCRIPTION:Note: Later UK time to accommodate international members.UK: \nSaturday\, 13th June – 10.30 PM (2230) \nInternational:Auckland – Sunday\, 14th June – 9.30 AMSydney – Sunday\, 14th June – 7.30 AMUSA Eastern – Saturday\, 14th June – 5.30 PM (1730) \nCalling all adults born with OA/TOF. \nYou’re invited for a virtual cuppa and chat with other adults born with OA/TOF. \nThis informal meet-up is led by volunteers\, who are also adults born with OA/TOF\, and is a relaxed\, safe space to share stories and experiences with others that understand what you are going through. \nSo\, come along\, enjoy a relaxing cup of coffee (or tea) and meet others in the #OA / #TOF and #VACTERL community! \nMeet the volunteers: \n\nAlison born 1967\, OA/TOF (long gap). Had a colonic interposition repair at 2.5 years old at Manchester Children’s hospital (Pendlebury)\nKate\, born 1957\, OA/TOF (Short gap) and associated anomalies\nMichael\, born 1952 with OA/TOF short gap with various intervention.\nAlan\, O/A TOF surgery 1969 John Radcliffe Oxfordshire\, and VACTERL anomalies\n\nNote: TOFS charity is facilitating these events\, however they will be led by the Adult OA/TOF Working Group and the TOFS office staff won’t be taking part. \nPlease note: Registration must be completed at least 24 hours before the start of the event. If registration deadlines are missed\, it’s likely that individuals will not be admitted to the meeting. \n					\n									CLICK HERE TO REGISTER
URL:https://tofs.org.uk/event/international-meet-up-for-adults-born-with-oa-tof-virtual/
LOCATION:Online
CATEGORIES:Adult TOF
ATTACH;FMTTYPE=image/png:https://tofs.org.uk/wp-content/uploads/2026/03/6-June-Adult-cuppa-and-chat.png
END:VEVENT
BEGIN:VEVENT
DTSTART;TZID=Europe/London:20260620T110000
DTEND;TZID=Europe/London:20260620T150000
DTSTAMP:20260418T235232
CREATED:20260206T084235Z
LAST-MODIFIED:20260408T110408Z
UID:10000162-1781953200-1781967600@tofs.org.uk
SUMMARY:Local Meet-up: Southport
DESCRIPTION:Don’t miss your chance to meet up with other OA/TOF parents and families in Southport and from across the North West Region. \nAlan & Carolyn\, TOFS Local Contacts (TLC) for Liverpool\, are organising an informal get-together at  the Botanical Gardens near Southport. \nThis event is being organised by Alan & Carolyn themselves. \nIf you are interested in attending or require any further info\, please contact them via their details in the members section of the website – https://members.tofs.org.uk/tofs-local-contacts.aspx \nHope you can make it. \nPlease note\, this event is for parents & carers of children born with OA/TOF. \n\n											\n															TOFS TLCs Alan and Carolyn
URL:https://tofs.org.uk/event/local-meet-up-southport/
LOCATION:Southport Botanic Gardens\, Bankfield Lane\, Churchtown\, Merseyside\, PR9 7NB\, United Kingdom
CATEGORIES:Parents & Carers
ATTACH;FMTTYPE=image/jpeg:https://tofs.org.uk/wp-content/uploads/2024/04/local-meet-up.jpg
GEO:53.659852022199;-2.9599293019302
X-APPLE-STRUCTURED-LOCATION;VALUE=URI;X-ADDRESS=Southport Botanic Gardens Bankfield Lane Churchtown Merseyside PR9 7NB United Kingdom;X-APPLE-RADIUS=500;X-TITLE=Bankfield Lane:geo:-2.9599293019302,53.659852022199
END:VEVENT
BEGIN:VEVENT
DTSTART;TZID=Europe/London:20260627T090000
DTEND;TZID=Europe/London:20260627T120000
DTSTAMP:20260418T235232
CREATED:20260416T144241Z
LAST-MODIFIED:20260416T151748Z
UID:10000172-1782550800-1782561600@tofs.org.uk
SUMMARY:Local Meet-up: Bristol
DESCRIPTION:Don’t miss your chance to meet up with other OA/TOF parents and families from across Bristol and surrounding areas. \nSarah\, TOFS Local Contact (TLC) for the South West of England\, is organising an informal get-together in Bristol and you are invited. \nWhen:9am – 12noonSaturday\, 27th June\, 2026 \nWhere:Ronald McDonald House\, Bristol Royal Fort Road\, Bristol\, BS2 8DH [map] \nThis event is free and being organised by Sarah herself.  \nIf you are interested in attending\, please RSVP to Sarah direct via her email (click here) or via her details in the TLC section of the members website.  \nHope you can make it. \nPlease note\, this event is for parents & carers of children born with OA/TOF.
URL:https://tofs.org.uk/event/local-meet-up-bristol-2/
LOCATION:Ronald McDonald House Bristol\, Royal Fort Rd\, Bristol\, BS2 8DH\, United Kingdom
CATEGORIES:Parents & Carers
ATTACH;FMTTYPE=image/jpeg:https://tofs.org.uk/wp-content/uploads/2024/04/local-meet-up.jpg
END:VEVENT
BEGIN:VEVENT
DTSTART;TZID=Europe/London:20260704T090000
DTEND;TZID=Europe/London:20260704T120000
DTSTAMP:20260418T235232
CREATED:20260416T151012Z
LAST-MODIFIED:20260416T151955Z
UID:10000173-1783155600-1783166400@tofs.org.uk
SUMMARY:Local Meet-up: Exeter
DESCRIPTION:Don’t miss your chance to meet up with other OA/TOF parents and families from across Exeter and surrounding areas. \nSarah\, TOFS Local Contact (TLC) for the South West of England\, is organising an informal get-together in Exeter and you are invited. \nWhen:9am – 12noonSaturday\, 4th July\, 2026 \nWhere:Blue Ball Inn\, Sandygate Roundabout\, Exeter\, EX2 7JL [map] \nThis event is free and being organised by Sarah herself.  \nIf you are interested in attending\, please RSVP to Sarah direct via her email (click here) or via her details in the TLC section of the members website.  \nHope you can make it. \nPlease note\, this event is for parents & carers of children born with OA/TOF.
URL:https://tofs.org.uk/event/local-meet-up-exeter/
LOCATION:Blue Ball Inn\, Sandygate Roundabout\, Exeter\, EX2 7JL\, United Kingdom
CATEGORIES:Parents & Carers
ATTACH;FMTTYPE=image/jpeg:https://tofs.org.uk/wp-content/uploads/2024/04/local-meet-up.jpg
END:VEVENT
END:VCALENDAR