BEGIN:VCALENDAR
VERSION:2.0
PRODID:-//TOFS | OA/TOF Support - ECPv6.15.17.1//NONSGML v1.0//EN
CALSCALE:GREGORIAN
METHOD:PUBLISH
X-ORIGINAL-URL:https://tofs.org.uk
X-WR-CALDESC:Events for TOFS | OA/TOF Support
REFRESH-INTERVAL;VALUE=DURATION:PT1H
X-Robots-Tag:noindex
X-PUBLISHED-TTL:PT1H
BEGIN:VTIMEZONE
TZID:Europe/London
BEGIN:DAYLIGHT
TZOFFSETFROM:+0000
TZOFFSETTO:+0100
TZNAME:BST
DTSTART:20250330T010000
END:DAYLIGHT
BEGIN:STANDARD
TZOFFSETFROM:+0100
TZOFFSETTO:+0000
TZNAME:GMT
DTSTART:20251026T010000
END:STANDARD
BEGIN:DAYLIGHT
TZOFFSETFROM:+0000
TZOFFSETTO:+0100
TZNAME:BST
DTSTART:20260329T010000
END:DAYLIGHT
BEGIN:STANDARD
TZOFFSETFROM:+0100
TZOFFSETTO:+0000
TZNAME:GMT
DTSTART:20261025T010000
END:STANDARD
BEGIN:DAYLIGHT
TZOFFSETFROM:+0000
TZOFFSETTO:+0100
TZNAME:BST
DTSTART:20270328T010000
END:DAYLIGHT
BEGIN:STANDARD
TZOFFSETFROM:+0100
TZOFFSETTO:+0000
TZNAME:GMT
DTSTART:20271031T010000
END:STANDARD
END:VTIMEZONE
BEGIN:VEVENT
DTSTART;VALUE=DATE:20260704
DTEND;VALUE=DATE:20260706
DTSTAMP:20260417T120918
CREATED:20251014T160318Z
LAST-MODIFIED:20251015T093132Z
UID:10000136-1783123200-1783295999@tofs.org.uk
SUMMARY:Peak District Ultra Challenge 2026
DESCRIPTION:Take on the Peak District Ultra Challenge for TOFS! \nJoin Team TOFS to walk\, jog\, or run in the heart of the beautiful Peak District National Park. \nWhether you’re up for the 100km\, the 50km\, the 25km or prefer the shorter 10mile option\, there’s something for everyone\, and every route includes breath-taking views\, including a pass by the iconic Chatsworth House. \nYou’ll enjoy full support every step of the way\, with excellent hospitality\, camping options\, parking\, and welfare services across the weekend. It’s a fantastic personal challenge – and a brilliant way to raise vital funds for TOFS. \nLace up your boots\, join the adventure\, and help make a difference. Sign up today! \nNote: Applications for this event are managed via our partner\, Action Challenges. \nEntry fee:\n£50 (100K)£45 (75K)£40 (50K)£30 (25K)£20 (10M)\nThis fee goes towards covering your subsidised entry cost and the admin fees charged by the race organisers. Payable on application.  \nOther entry fee options may also be available. Please click the “Get more info” button below to check. \nFundraising commitment:\n£575 (100K)£475 (75K)£375 (50K)£30 (25K)£20 (10M)\nThis is the minimum amount (before Gift Aid) that we would expect a participant to raise. But you don’t have to stop there! many of our fundraisers really go for it and most will raise far above that amount! \n					\n									SIGN UP\n					\n					\n									Get more info\n					 \nFundraising Deadlines:At least 50% of the Sponsorship target (for either the Sponsorship for Charity or Mixed Funding option) should be raised by 3 weeks prior to the Challenge. At this time TOFS will pay a Fee for your place to the Organiser (similar to the Self Funding cost). Failure to meet the 50% target may result in cancellation of your place. The remaining 50% should be with TOFS 4 weeks after the Challenge. \n							\n														\n							\n														\n							\n														\n							\n														\n							\n														\n							\n														\n							\n														\n							\n														 \nUpcoming challenge events\n\n		8 events found.\n		\n	\n\n		\n	\n\n		\n	\n \n\n\n\n\n	\n		\n	\n\n	\n\n\n	\n		\n	\n\n	\n\n\n\n	\n	Today\n	\n		\n					Now\n					Now\n					\n					 –\n			\n					04/07/2026\n					4th July 2026\n			\n				\n	\n\n	\n	\n		Select date.	\n	\n	\n		\n	\n\n	\n	\n		\n	\n\n	\n\n\n	\n		Big Splash Swimathon 2025\n		\n	\n	\n			Oct\n			25\n	\n				25th October – 2nd November		 \n\n	\n		Big Splash Swimathon 2025	\n\n\n\n	\n		Run Alton Towers 5k/10k/Half Marathon\n		\n	\n	\n			Nov\n			15\n	\n				15th November – 16th November		 \n\n	\n		Run Alton Towers 5k/10k/Half Marathon	\n\n\n\n	\n		London Winter Walk\n		\n	\n	\n			Jan\n			24\n	\n				24th January 2026 – 25th January 2026		 \n\n	\n		London Winter Walk	\n\n\n\n	\n		Brighton Marathon 2026\n		\n	\n	\n			Apr\n			12\n	\n				\n			All day		 \n\n	\n		Brighton Marathon 2026	\n\n\n\n	\n		Jurassic Coast Challenge\n		\n	\n	\n			May\n			16\n	\n				16th May 2026 – 17th May 2026		 \n\n	\n		Jurassic Coast Challenge	\n\n\n\n	\n		Hackney Half 2026\n		\n	\n	\n			May\n			17\n	\n				\n			All day		 \n\n	\n		Hackney Half 2026	\n\n\n\n	\n		London 2 Brighton Challenge\n		\n	\n	\n			May\n			23\n	\n				23rd May 2026 – 24th May 2026		 \n\n	\n		London 2 Brighton Challenge	\n\n\n\n	\n		Peak District Ultra Challenge 2026\n		\n	\n	\n			Jul\n			4\n	\n				4th July 2026 – 5th July 2026		 \n\n	\n		Peak District Ultra Challenge 2026	\n\n\n\n\n\n	\n		\n	\n\n			Previous Events\n	\n\n\n	\n		Today	\n\n\n	\n			Next Events\n		\n	\n\n	\n\n\n\n			\n				Subscribe to calendar			\n			\n	\n \n\n\n	\n		Google Calendar	\n\n\n	\n		iCalendar	\n\n\n	\n		Outlook 365	\n\n\n	\n		Outlook Live	\n\n\n	\n		Export .ics file	\n\n\n	\n		Export Outlook .ics file
URL:https://tofs.org.uk/event/peak-district-ultra-challenge-2026/
LOCATION:Bakewell\, Bakewell Showground\, DE45 1AH\, United Kingdom
CATEGORIES:Fundraising
ATTACH;FMTTYPE=image/png:https://tofs.org.uk/wp-content/uploads/2025/04/peak-district.png
END:VEVENT
END:VCALENDAR