BEGIN:VCALENDAR
VERSION:2.0
PRODID:-//TOFS | OA/TOF Support - ECPv6.15.17.1//NONSGML v1.0//EN
CALSCALE:GREGORIAN
METHOD:PUBLISH
X-ORIGINAL-URL:https://tofs.org.uk
X-WR-CALDESC:Events for TOFS | OA/TOF Support
REFRESH-INTERVAL;VALUE=DURATION:PT1H
X-Robots-Tag:noindex
X-PUBLISHED-TTL:PT1H
BEGIN:VTIMEZONE
TZID:Europe/London
BEGIN:DAYLIGHT
TZOFFSETFROM:+0000
TZOFFSETTO:+0100
TZNAME:BST
DTSTART:20250330T010000
END:DAYLIGHT
BEGIN:STANDARD
TZOFFSETFROM:+0100
TZOFFSETTO:+0000
TZNAME:GMT
DTSTART:20251026T010000
END:STANDARD
BEGIN:DAYLIGHT
TZOFFSETFROM:+0000
TZOFFSETTO:+0100
TZNAME:BST
DTSTART:20260329T010000
END:DAYLIGHT
BEGIN:STANDARD
TZOFFSETFROM:+0100
TZOFFSETTO:+0000
TZNAME:GMT
DTSTART:20261025T010000
END:STANDARD
BEGIN:DAYLIGHT
TZOFFSETFROM:+0000
TZOFFSETTO:+0100
TZNAME:BST
DTSTART:20270328T010000
END:DAYLIGHT
BEGIN:STANDARD
TZOFFSETFROM:+0100
TZOFFSETTO:+0000
TZNAME:GMT
DTSTART:20271031T010000
END:STANDARD
END:VTIMEZONE
BEGIN:VEVENT
DTSTART;VALUE=DATE:20260913
DTEND;VALUE=DATE:20260914
DTSTAMP:20260420T143446
CREATED:20251022T160059Z
LAST-MODIFIED:20251022T173707Z
UID:10000142-1789257600-1789343999@tofs.org.uk
SUMMARY:Kiltwalk Edinburgh 2026
DESCRIPTION:Take big strides in 2026 and join us in the capital for Edinburgh Kiltwalk on 13 September. Every step you take will make a BIG difference for TOFS. With 3 challenges ranging from 4.6 miles right up to 21 miles there is sure to be a Kiltwalk to suit you. \nSign up as a team or as an individual and families are welcome too. \nNote: Applications for this event are managed via our partner\, Kiltwalk. \nEntry fee:\n£20 (21mile / 11.2miles)£13 (4.6miles – Adult)£7 (4.6miles – Child up to 15 years old)\nThis fee is paid direct to the event organiser on application.  \nSuggested fundraising target:\n£100\nThere is no set target for this event however we would suggest aiming for a minimum of £100. But you don’t have to stop there! Many of our fundraisers really go for it and most will raise far above that amount! \n					\n									SIGN UP\n					\n					\n									Get more info\n					\n							\n														\n							\n														\n							\n														\n							\n														\n				 \nUpcoming challenge events\n\n		8 events found.\n		\n	\n\n		\n	\n\n		\n	\n \n\n\n\n\n	\n		\n	\n\n	\n\n\n	\n		\n	\n\n	\n\n\n\n	\n	Today\n	\n		\n					Now\n					Now\n					\n					 –\n			\n					23/05/2026\n					23rd May 2026\n			\n				\n	\n\n	\n	\n		Select date.	\n	\n	\n		\n	\n\n	\n	\n		\n	\n\n	\n\n\n	\n		Big Splash Swimathon 2025\n		\n	\n	\n			Oct\n			25\n	\n				25th October – 2nd November		 \n\n	\n		Big Splash Swimathon 2025	\n\n\n\n	\n		Run Alton Towers 5k/10k/Half Marathon\n		\n	\n	\n			Nov\n			15\n	\n				15th November – 16th November		 \n\n	\n		Run Alton Towers 5k/10k/Half Marathon	\n\n\n\n	\n		London Winter Walk\n		\n	\n	\n			Jan\n			24\n	\n				24th January 2026 – 25th January 2026		 \n\n	\n		London Winter Walk	\n\n\n\n	\n		Brighton Marathon 2026\n		\n	\n	\n			Apr\n			12\n	\n				\n			All day		 \n\n	\n		Brighton Marathon 2026	\n\n\n\n	\n		Kiltwalk Glasgow 2026\n		\n	\n	\n			Apr\n			25\n	\n				25th April 2026 – 26th April 2026		 \n\n	\n		Kiltwalk Glasgow 2026	\n\n\n\n	\n		Jurassic Coast Challenge\n		\n	\n	\n			May\n			16\n	\n				16th May 2026 – 17th May 2026		 \n\n	\n		Jurassic Coast Challenge	\n\n\n\n	\n		Hackney Half 2026\n		\n	\n	\n			May\n			17\n	\n				\n			All day		 \n\n	\n		Hackney Half 2026	\n\n\n\n	\n		London 2 Brighton Challenge\n		\n	\n	\n			May\n			23\n	\n				23rd May 2026 – 24th May 2026		 \n\n	\n		London 2 Brighton Challenge	\n\n\n\n\n\n	\n		\n	\n\n			Previous Events\n	\n\n\n	\n		Today	\n\n\n	\n			Next Events\n		\n	\n\n	\n\n\n\n			\n				Subscribe to calendar			\n			\n	\n \n\n\n	\n		Google Calendar	\n\n\n	\n		iCalendar	\n\n\n	\n		Outlook 365	\n\n\n	\n		Outlook Live	\n\n\n	\n		Export .ics file	\n\n\n	\n		Export Outlook .ics file
URL:https://tofs.org.uk/event/kiltwalk-edinburgh-2026/
LOCATION:Edinburgh\, Holyrood Park\, Edinburgh\, EH8 8HG\, United Kingdom
CATEGORIES:Fundraising
ATTACH;FMTTYPE=image/png:https://tofs.org.uk/wp-content/uploads/2025/10/kiltwalk-edinburgh.png
END:VEVENT
END:VCALENDAR