BEGIN:VCALENDAR
VERSION:2.0
PRODID:-//TOFS | OA/TOF Support - ECPv6.15.17.1//NONSGML v1.0//EN
CALSCALE:GREGORIAN
METHOD:PUBLISH
X-ORIGINAL-URL:https://tofs.org.uk
X-WR-CALDESC:Events for TOFS | OA/TOF Support
REFRESH-INTERVAL;VALUE=DURATION:PT1H
X-Robots-Tag:noindex
X-PUBLISHED-TTL:PT1H
BEGIN:VTIMEZONE
TZID:Europe/London
BEGIN:DAYLIGHT
TZOFFSETFROM:+0000
TZOFFSETTO:+0100
TZNAME:BST
DTSTART:20240331T010000
END:DAYLIGHT
BEGIN:STANDARD
TZOFFSETFROM:+0100
TZOFFSETTO:+0000
TZNAME:GMT
DTSTART:20241027T010000
END:STANDARD
BEGIN:DAYLIGHT
TZOFFSETFROM:+0000
TZOFFSETTO:+0100
TZNAME:BST
DTSTART:20250330T010000
END:DAYLIGHT
BEGIN:STANDARD
TZOFFSETFROM:+0100
TZOFFSETTO:+0000
TZNAME:GMT
DTSTART:20251026T010000
END:STANDARD
BEGIN:DAYLIGHT
TZOFFSETFROM:+0000
TZOFFSETTO:+0100
TZNAME:BST
DTSTART:20260329T010000
END:DAYLIGHT
BEGIN:STANDARD
TZOFFSETFROM:+0100
TZOFFSETTO:+0000
TZNAME:GMT
DTSTART:20261025T010000
END:STANDARD
END:VTIMEZONE
BEGIN:VEVENT
DTSTART;VALUE=DATE:20251012
DTEND;VALUE=DATE:20251013
DTSTAMP:20260418T190450
CREATED:20241220T102338Z
LAST-MODIFIED:20250820T111602Z
UID:10000101-1760227200-1760313599@tofs.org.uk
SUMMARY:Royal Parks Half Marathon
DESCRIPTION:Run for TOFS in the 2025 Royal Park Half Marathon and help to make a difference in the lives of those born unable to swallow.  \nApply soon. Places going fast! \n  \nSOLD OUT: \nPlease note: This event is now full but you can still sign-up to the waitlist. \nEntry fee:\n£50 \n+ £2.50 booking fee. \nThis fee goes towards the admin fees that the race organisers charge TOFS.  \nFundraising commitment: £300\nThis is the minimum amount (before Gift Aid) that we would expect a participant to raise. But you don’t have to stop there! Most of our runners raise more than the minimum! \n					\n									CLICK HERE TO JOIN THE WAITLIST!\n					 \nThis is the most spectacular half marathon that central London has to offer – it is a unique and inspiring event and one that sells out every year.  \nRunners will glide through four of London’s stunning Royal Parks\, Kensington Gardens\, Hyde Park\, St James’s Park and The Green Park. The 13.1m extraordinary route brushes past London’s most famous landmarks\, including The Houses of Parliament\, Trafalgar Square and Buckingham Palace\, all on closed roads.  \nPlus\, the event village in Hyde Park hosts a fantastic food and fitness festival\, ensuring a brilliant day out for runners and supporters alike. \nhttps://www.youtube.com/watch?v=nK523v5gHdA \nNote: Applications for this event are managed via our partner\, Run for Charity. Scroll down to see our terms and conditions for this event. \nNote: Applications for this event are managed via our partner\, Run for Charity. Scroll down to see our terms and conditions for this event. \n												TOFS Terms and Conditions \n\nYou confirm that the information on your application form is complete and correct\, and that you will be 18 years of age or older on the day of the event.\nYou recognise that TOFS will retain for a reasonable period the information that you supply by applying\, whether you are selected for a TOFS place or not.\nYou recognise that you apply and (if selected by TOFS) run at your own risk in accordance with standard organiser’s regulations and conditions\, which are in addition to these TOFS terms and conditions.\nYou confirm that\, so far as you are aware\, you have no medical or health issues which would mean that it would be unsafe or unwise for you to train for and run this event.\nYou confirm that you shall (if selected to run for TOFS) diligently undertake the running training that is appropriate as preparation for a half marathon\, in the months preceding the run.\nShould you be accepted to run for TOFS using a TOFS place\, you agree to pay a registration fee of £50 (+booking fee). This is to cover some administration costs. The fee will count towards your fund-raising pledge. If the fee is not cleared in the TOFS bank account within 21 days of applying.\nYou confirm that you shall make diligent efforts to contact donors and sponsors and set up fundraising mechanisms so as to raise at least the amount you have suggested for TOFS\, and TOFS shall be the only charity for which you raise funds in this event You must show at least one month before the marathon that your fundraising has commenced for instance by setting up a fundraising webpage and receiving at least an initial donation. TOFS strongly recommends the use of Peoples Fundraising.\nIf allocated a place\, you are pledging to raise your suggested amount for TOFS and agreeing to make up any shortfall yourself or via your own further fundraising efforts to the required minimum to be received by TOFS within 30 days of the event date.\nIf allocated a place\, you agree to inform TOFS as soon as possible in writing\, preferably by email\, should you become unable to take part in the event. Once this is acknowledged by TOFS\, your minimum sponsorship obligation will cease. You understand that\, should you withdraw from your place\, the registration fee is non-refundable and will be retained by TOFS to cover expenses.\nYou agree that\, should you withdraw from your place\, you will co-operate and correspond with TOFS and the event organisers such that another runner chosen by TOFS can take your place. At the discretion of TOFS\, and subject to some conditions\, you may be offered a TOFS place in the next year’s event.\nIf you are unable to participate in the event for any reason\, all donated monies collected by you or donated via third parties (such as fundraising websites) in support of TOFS must be forwarded to TOFS. Money which has been pledged to you on condition of your completing the event must be returned to the individual sponsors\, or donated to TOFS if those sponsors are happy to do so. Monies already received by TOFS will not be refunded.\nIf allocated a TOFS place\, you agree that images taken on the day of the event may be used by TOFS to help promote our fundraising efforts.\nYou understand that\, if allocated a TOFS place\, you will be required to also complete in full (and online) the organiser’s registration process\, and to confirm to TOFS as soon as you have done so. \nBy applying for this event\, you accept and agree to the terms and conditions listed above.
URL:https://tofs.org.uk/event/royal-parks-half-marathon/
LOCATION:Hyde Park\, London\, W2 5DS\, United Kingdom
CATEGORIES:Fundraising
ATTACH;FMTTYPE=image/jpeg:https://tofs.org.uk/wp-content/uploads/2024/04/royal-parks-half.jpg
END:VEVENT
END:VCALENDAR