BEGIN:VCALENDAR
VERSION:2.0
PRODID:-//TOFS | OA/TOF Support - ECPv6.15.17.1//NONSGML v1.0//EN
CALSCALE:GREGORIAN
METHOD:PUBLISH
X-WR-CALNAME:TOFS | OA/TOF Support
X-ORIGINAL-URL:https://tofs.org.uk
X-WR-CALDESC:Events for TOFS | OA/TOF Support
REFRESH-INTERVAL;VALUE=DURATION:PT1H
X-Robots-Tag:noindex
X-PUBLISHED-TTL:PT1H
BEGIN:VTIMEZONE
TZID:Europe/London
BEGIN:DAYLIGHT
TZOFFSETFROM:+0000
TZOFFSETTO:+0100
TZNAME:BST
DTSTART:20250330T010000
END:DAYLIGHT
BEGIN:STANDARD
TZOFFSETFROM:+0100
TZOFFSETTO:+0000
TZNAME:GMT
DTSTART:20251026T010000
END:STANDARD
BEGIN:DAYLIGHT
TZOFFSETFROM:+0000
TZOFFSETTO:+0100
TZNAME:BST
DTSTART:20260329T010000
END:DAYLIGHT
BEGIN:STANDARD
TZOFFSETFROM:+0100
TZOFFSETTO:+0000
TZNAME:GMT
DTSTART:20261025T010000
END:STANDARD
BEGIN:DAYLIGHT
TZOFFSETFROM:+0000
TZOFFSETTO:+0100
TZNAME:BST
DTSTART:20270328T010000
END:DAYLIGHT
BEGIN:STANDARD
TZOFFSETFROM:+0100
TZOFFSETTO:+0000
TZNAME:GMT
DTSTART:20271031T010000
END:STANDARD
END:VTIMEZONE
BEGIN:VEVENT
DTSTART;TZID=Europe/London:20260627T090000
DTEND;TZID=Europe/London:20260627T120000
DTSTAMP:20260423T110749
CREATED:20260416T144241Z
LAST-MODIFIED:20260416T151748Z
UID:10000172-1782550800-1782561600@tofs.org.uk
SUMMARY:Local Meet-up: Bristol
DESCRIPTION:Don’t miss your chance to meet up with other OA/TOF parents and families from across Bristol and surrounding areas. \nSarah\, TOFS Local Contact (TLC) for the South West of England\, is organising an informal get-together in Bristol and you are invited. \nWhen:9am – 12noonSaturday\, 27th June\, 2026 \nWhere:Ronald McDonald House\, Bristol Royal Fort Road\, Bristol\, BS2 8DH [map] \nThis event is free and being organised by Sarah herself.  \nIf you are interested in attending\, please RSVP to Sarah direct via her email (click here) or via her details in the TLC section of the members website.  \nHope you can make it. \nPlease note\, this event is for parents & carers of children born with OA/TOF.
URL:https://tofs.org.uk/event/local-meet-up-bristol-2/
LOCATION:Ronald McDonald House Bristol\, Royal Fort Rd\, Bristol\, BS2 8DH\, United Kingdom
CATEGORIES:Parents & Carers
ATTACH;FMTTYPE=image/jpeg:https://tofs.org.uk/wp-content/uploads/2024/04/local-meet-up.jpg
END:VEVENT
END:VCALENDAR