BEGIN:VCALENDAR
VERSION:2.0
PRODID:-//TOFS | OA/TOF Support - ECPv6.15.17.1//NONSGML v1.0//EN
CALSCALE:GREGORIAN
METHOD:PUBLISH
X-ORIGINAL-URL:https://tofs.org.uk
X-WR-CALDESC:Events for TOFS | OA/TOF Support
REFRESH-INTERVAL;VALUE=DURATION:PT1H
X-Robots-Tag:noindex
X-PUBLISHED-TTL:PT1H
BEGIN:VTIMEZONE
TZID:Europe/London
BEGIN:DAYLIGHT
TZOFFSETFROM:+0000
TZOFFSETTO:+0100
TZNAME:BST
DTSTART:20240331T010000
END:DAYLIGHT
BEGIN:STANDARD
TZOFFSETFROM:+0100
TZOFFSETTO:+0000
TZNAME:GMT
DTSTART:20241027T010000
END:STANDARD
BEGIN:DAYLIGHT
TZOFFSETFROM:+0000
TZOFFSETTO:+0100
TZNAME:BST
DTSTART:20250330T010000
END:DAYLIGHT
BEGIN:STANDARD
TZOFFSETFROM:+0100
TZOFFSETTO:+0000
TZNAME:GMT
DTSTART:20251026T010000
END:STANDARD
BEGIN:DAYLIGHT
TZOFFSETFROM:+0000
TZOFFSETTO:+0100
TZNAME:BST
DTSTART:20260329T010000
END:DAYLIGHT
BEGIN:STANDARD
TZOFFSETFROM:+0100
TZOFFSETTO:+0000
TZNAME:GMT
DTSTART:20261025T010000
END:STANDARD
END:VTIMEZONE
BEGIN:VEVENT
DTSTART;VALUE=DATE:20251012
DTEND;VALUE=DATE:20251013
DTSTAMP:20260418T190756
CREATED:20250918T113605Z
LAST-MODIFIED:20250918T115239Z
UID:10000129-1760227200-1760313599@tofs.org.uk
SUMMARY:Myles Clabby Memorial Cup
DESCRIPTION:TOFS Member\, Danielle Clabby has organised the 3rd annual Myles Clabby Memorial Cup in October to celebrate the memory of baby Myles. \nDanielle says\, “We want to see as many people there as possible so please spread the word. There will be raffles on the day as well as other fundraising opportunities for TOFS charity.” \nEntry fees:Adults: £612-16s: £2Under 12s: FREE \n					\n									CLICK HERE FOR MORE INFO
URL:https://tofs.org.uk/event/myles-clabby-memorial-cup/
LOCATION:St. Roch’s F.C\, 713 Royston Rd\, Glasgow\, G21 2DT\, United Kingdom
CATEGORIES:Fundraising
ATTACH;FMTTYPE=image/jpeg:https://tofs.org.uk/wp-content/uploads/2025/09/myles-clabby-memorial-cup-2025.jpg
END:VEVENT
END:VCALENDAR